Workbook
Name _edn1: 'Enrol Summary'!#REF!
Name _edn1: Other!#REF!
Name _edn1: 'Program Summary'!#REF!
Name _edn1: 'Summary - BOG'!#REF!
Name _edn1: 'Summary - Finance'!#REF!
Name _edn1: 'TCH Summary'!#REF!
Name _edn2: 'Enrol Summary'!#REF!
Name _edn2: Other!#REF!
Name _edn2: 'Program Summary'!#REF!
Name _edn2: 'Summary - BOG'!#REF!
Name _edn2: 'Summary - Finance'!#REF!
Name _edn2: 'TCH Summary'!#REF!
Name _edn3: 'Enrol Summary'!#REF!
Name _edn3: Other!#REF!
Name _edn3: 'Program Summary'!#REF!
Name _edn3: 'Summary - BOG'!#REF!
Name _edn3: 'Summary - Finance'!#REF!
Name _edn3: 'TCH Summary'!#REF!
Name _edn4: 'Enrol Summary'!#REF!
Name _edn4: Other!#REF!
Name _edn4: 'Program Summary'!#REF!
Name _edn4: 'Summary - BOG'!#REF!
Name _edn4: 'Summary - Finance'!#REF!
Name _edn4: 'TCH Summary'!#REF!
Name _edn5: 'Enrol Summary'!#REF!
Name _edn5: Other!#REF!
Name _edn5: 'Program Summary'!#REF!
Name _edn5: 'Summary - BOG'!#REF!
Name _edn5: 'Summary - Finance'!#REF!
Name _edn5: 'TCH Summary'!#REF!
Name _edn6: 'Enrol Summary'!#REF!
Name _edn6: Other!#REF!
Name _edn6: 'Program Summary'!#REF!
Name _edn6: 'Summary - BOG'!#REF!
Name _edn6: 'Summary - Finance'!#REF!
Name _edn6: 'TCH Summary'!#REF!
Name _edn7: 'Enrol Summary'!#REF!
Name _edn7: Other!#REF!
Name _edn7: 'Program Summary'!#REF!
Name _edn7: 'Summary - BOG'!#REF!
Name _edn7: 'Summary - Finance'!#REF!
Name _edn7: 'TCH Summary'!#REF!
Name _edn8: 'Enrol Summary'!#REF!
Name _edn8: Other!#REF!
Name _edn8: 'Program Summary'!#REF!
Name _edn8: 'Summary - BOG'!#REF!
Name _edn8: 'Summary - Finance'!#REF!
Name _edn8: 'TCH Summary'!#REF!
Name _ednref1: 'Enrol Summary'!#REF!
Name _ednref1: Other!#REF!
Name _ednref1: 'Program Summary'!#REF!
Name _ednref1: 'Summary - BOG'!#REF!
Name _ednref1: 'Summary - Finance'!#REF!
Name _ednref1: 'TCH Summary'!#REF!
Name _ednref2: 'Enrol Summary'!#REF!
Name _ednref2: Other!#REF!
Name _ednref2: 'Program Summary'!#REF!
Name _ednref2: 'Summary - BOG'!#REF!
Name _ednref2: 'Summary - Finance'!#REF!
Name _ednref2: 'TCH Summary'!#REF!

Sheet Instructions
A18: EXAMPLE ONLY below - please complete your info on the "Enrolment" tab
A20: Cohort | B20: Fiscal | C20: Term | D20: Semester | E20: Domestic | F20: International | G20: Total
A21: Co_Fall | B21: 26/27 | C21: Fall | D21: 1 | E21: 40 | F21: 2 | G21: =SUM(E21:F21) -> 42
A22: Co_Fall | B22: 26/27 | C22: Winter | D22: 2 | E22: 38 | F22: 2 | G22: =SUM(E22:F22) -> 40
A23: Co_Winter | B23: 26/27 | C23: Winter | D23: 1 | E23: 30 | F23: 1 | G23: =SUM(E23:F23) -> 31
A24: Co_Winter | B24: 27/28 | C24: Summer | D24: 2 | E24: 28 | F24: 1 | G24: =SUM(E24:F24) -> 29
A25: Co_Fall | B25: 27/28 | C25: Fall | D25: 1 | E25: 40 | F25: 2 | G25: =SUM(E25:F25) -> 42
A26: Co_Fall | B26: 27/28 | C26: Winter | D26: 2 | E26: 38 | F26: 2 | G26: =SUM(E26:F26) -> 40
A27: Co_Winter | B27: 27/28 | C27: Winter | D27: 1 | E27: 30 | F27: 1 | G27: =SUM(E27:F27) -> 31
A28: Co_Winter | B28: 28/29 | C28: Summer | D28: 2 | E28: 28 | F28: 1 | G28: =SUM(E28:F28) -> 29
A29: Co_Fall | B29: 28/29 | C29: Fall | D29: 1 | E29: 40 | F29: 2 | G29: =SUM(E29:F29) -> 42
A30: Co_Fall | B30: 28/29 | C30: Winter | D30: 2 | E30: 38 | F30: 2 | G30: =SUM(E30:F30) -> 40
A31: Co_Winter | B31: 28/29 | C31: Winter | D31: 1 | E31: 30 | F31: 1 | G31: =SUM(E31:F31) -> 31
A32: Co_Winter | B32: 29/30 | C32: Summer | D32: 2 | E32: 28 | F32: 1 | G32: =SUM(E32:F32) -> 29
... A39: Co_Winter | B39: 30/31 | C39: Winter | D39: 1 | E39: 30 | F39: 1 | G39: =SUM(E39:F39) -> 31
A53: EXAMPLE ONLY below - please complete your info on the "TCH" tab
A54: Fiscal Year | B54: Term | C54: Sem | D54: Course Code | E54: Course Name | F54: Type | G54: Sec Max | H54: SCH | I54: TCH Faculty | J54: TCH Placement Support | K54: Ttl TCH Other Support | L54: Enrol | M54: Sections | N54: Ttl TCH Faculty | O54: Ttl TCH Placement Support | P54: Ttl TCH Other Support
A55: 26/27 | B55: Fall | C55: 1 | D55: BIOL 1XXX-3 | E55: Anatomy and Teminology | F55: Theory | G55: =IFERROR(VLOOKUP(F55,'Program Summary'!$F$45:$G$49,2,FALSE),0) -> 0 | H55: 42 | I55: 42 | J55: 0 | K55: 0 | L55: =SUMIFS(Enrolment!G:G,Enrolment!B:B,A55,Enrolment!C:C,B55,Enrolment!D:D,C55) -> 0 | M55: =IFERROR(ROUNDUP(L55/G55,0),1) -> 1 | N55: =I55*$M55 -> 42 | O55: =J55*$M55 -> 0 | P55: =K55*$M55 -> 0
A56: 26/27 | B56: Fall | C56: 1 | D56: MATH 1XXX-2 | E56: Medical Laboratory Mathematics | F56: Theory | G56: =IFERROR(VLOOKUP(F56,'Program Summary'!$F$45:$G$49,2,FALSE),0) -> 0 | H56: 42 | I56: 42 | J56: 0 | K56: 0 | L56: =SUMIFS(Enrolment!G:G,Enrolment!B:B,A56,Enrolment!C:C,B56,Enrolment!D:D,C56) -> 0 | M56: =IFERROR(ROUNDUP(L56/G56,0),1) -> 1 | N56: =I56*$M56 -> 42 | O56: =J56*$M56 -> 0 | P56: =K56*$M56 -> 0
A57: 26/27 | B57: Fall | C57: 1 | D57: MLAB 1XXX-2 | E57: Medical Laboratory Mathematics | F57: Theory | G57: =IFERROR(VLOOKUP(F57,'Program Summary'!$F$45:$G$49,2,FALSE),0) -> 0 | H57: 42 | I57: =+H57 -> 42 | J57: 0 | K57: 0 | L57: =SUMIFS(Enrolment!G:G,Enrolment!B:B,A57,Enrolment!C:C,B57,Enrolment!D:D,C57) -> 0 | M57: =IFERROR(ROUNDUP(L57/G57,0),1) -> 1 | N57: =I57*$M57 -> 42 | O57: =J57*$M57 -> 0 | P57: =K57*$M57 -> 0
A58: 26/27 | B58: Fall | C58: 1 | D58: MLAB 1XXX-3 | E58: Lab and Safety | F58: Lab | G58: =IFERROR(VLOOKUP(F58,'Program Summary'!$F$45:$G$49,2,FALSE),0) -> 0 | H58: =4*14 -> 56 | I58: 42 | J58: 0 | K58: 42 | L58: =SUMIFS(Enrolment!G:G,Enrolment!B:B,A58,Enrolment!C:C,B58,Enrolment!D:D,C58) -> 0 | M58: =IFERROR(ROUNDUP(L58/G58,0),1) -> 1 | N58: =I58*$M58 -> 42 | O58: =J58*$M58 -> 0 | P58: =K58*$M58 -> 42
A59: 26/27 | B59: Fall | C59: 1 | D59: XXXX | E59: Communication | F59: GenEd/Comm | G59: =IFERROR(VLOOKUP(F59,'Program Summary'!$F$45:$G$49,2,FALSE),0) -> 0 | H59: 42 | I59: 0 | J59: 0 | K59: 0 | L59: =SUMIFS(Enrolment!G:G,Enrolment!B:B,A59,Enrolment!C:C,B59,Enrolment!D:D,C59) -> 0 | M59: =IFERROR(ROUNDUP(L59/G59,0),1) -> 1 | N59: =I59*$M59 -> 0 | O59: =J59*$M59 -> 0 | P59: =K59*$M59 -> 0
A60: 26/27 | B60: Fall | C60: 1 | D60: XXXX | E60: GNED | F60: GenEd/Comm | G60: =IFERROR(VLOOKUP(F60,'Program Summary'!$F$45:$G$49,2,FALSE),0) -> 0 | H60: 42 | I60: 0 | J60: 0 | K60: 0 | L60: =SUMIFS(Enrolment!G:G,Enrolment!B:B,A60,Enrolment!C:C,B60,Enrolment!D:D,C60) -> 0 | M60: =IFERROR(ROUNDUP(L60/G60,0),1) -> 1 | N60: =I60*$M60 -> 0 | O60: =J60*$M60 -> 0 | P60: =K60*$M60 -> 0

Sheet Program Summary
A1: Program Costing Summary
A2: Version Date (enter as MM/DD/YY)
A3: Program Name
A4: Campus Launch
A5: Fiscal Year of Planned Program Launch (enter as YY/YY) | C5: 27/28
C6: Template Version Date 03/17/26
B8: Tuition, Lab Fees, and Grant Revenue
C9: Domestic Tuition | D9: International Tuition | E9: Lab Fees*
A10: 1 | B10: What are the fees per semester?
B11: FYI estimated % increase each academic year | C11: 0.02 | D11: 0.02
B12: (Fees should align the comparable programs listed in the APS table tab)
A14: 2 | B14: Grant per Weighted Funding Unit (WFU) (approx)** | C14: 4620
B15: Comparable 5 digit MCU code (from tab "Aug 2025 APS Table")*** | D15: =VLOOKUP(C15,'Aug 2025 APS Table w mods'!D:AE,28,FALSE) -> #N/A | E15: =IF(D15="y","Warning - Updated weight information has not been provided by the Ministry for this MCU code","") -> #N/A
B16: MCU Title | C16: =VLOOKUP(C$15,'Aug 2025 APS Table w mods'!$D:$I,2,FALSE) -> #N/A
B17: Credential Type | C17: =VLOOKUP(C$15,'Aug 2025 APS Table w mods'!$D:$I,3,FALSE) -> #N/A
B18: Weight | C18: =VLOOKUP(C$15,'Aug 2025 APS Table w mods'!$D:$I,5,FALSE) -> #N/A
B19: Funding Units | C19: =VLOOKUP(C$15,'Aug 2025 APS Table w mods'!$D:$I,6,FALSE) -> #N/A
B20: Degree Factor | C20: =IF(C17="Baccalaureate Degree",1.1,1) -> #N/A
B21: What are the number of semesters in the program?
B22: Program weight per semester is: | C22: =IFERROR(C18*C19/C21*C20,0) -> 0
B33: Notes
B34: *Lab Fee amounts will generate "Incidental Fee Revenue" which will generate an equivalent offset as "Incidental Fee Expense"
B35: **Due to Corridor Funding, launching a program may have to be offset by suspension of another program. Amount per Ministry memo dated Feb 12, 2026 for 2027/28 fiscal year.
B36: ***Ministry emailed a file with New Program Weights on Feb 23, 2026. The new APS table is not yet available, but the new weights were reflected on the Aug 2025 APS tab. A number of MCU codes were missing from the new program weights email, and as such, will still reflect the prior program weight previously noted
B38: Progression
A39: 1 | B39: Please insert comments below of the progression of your program
B44: Staffing - Please also attach a loading sheet / complete the TCH calcs tab
A45: 1 | B45: What is the maximum section Theory size? | F45: Theory | G45: =D45 -> 0
B46: What is the maximum section Lab size? (if applicable) | F46: Lab | G46: =D46 -> 0
B47: What is the maximum section Clinical size? (if applicable) | F47: Clinical | G47: =D47 -> 0
F48: GenEd/Comm | G48: 0
A49: 2 | B49: Rates (excluding Benefits) and Other | D49: Rate | E49: Rate Yr2 | F49: Rate Yr3 | G49: Rate Yr4 | H49: Rate Yr5
B50: FT Faculty (standard is $331/hr)* | D50: 331 | E50: =D50*(1+$D$56) -> 337.62 | F50: =E50*(1+$D$56) -> 344.3724 | G50: =F50*(1+$D$56) -> 351.25985 | H50: =G50*(1+$D$56) -> 358.28504
B51: PT Faculty (standard is $125) | D51: 125 | E51: =D51*(1+$D$56) -> 127.5 | F51: =E51*(1+$D$56) -> 130.05 | G51: =F51*(1+$D$56) -> 132.651 | H51: =G51*(1+$D$56) -> 135.30402
B52: FT Support | E52: =D52*(1+$D$56) -> 0 | F52: =E52*(1+$D$56) -> 0 | G52: =F52*(1+$D$56) -> 0 | H52: =G52*(1+$D$56) -> 0
B53: PT Support | E53: =D53*(1+$D$56) -> 0 | F53: =E53*(1+$D$56) -> 0 | G53: =F53*(1+$D$56) -> 0 | H53: =G53*(1+$D$56) -> 0
A56: 3 | B56: Estimated Cost inflation factor | D56: 0.02
B58: Notes
B59: *Assumes salary of $125K, divided by (12 TCHs per week * 14 weeks * 2 semesters + 6 TCHs per week * 7 weeks)
B61: =IF(OR(E50<>"",E52<>""),"Please comment below on when new hire required in plan","") -> Please comment below on when new hire required in plan
...

Sheet Enrolment
A1: Projected Enrolment
A2: ='Program Summary'!C3 -> 0
A4: Cohort | B4: Fiscal | C4: Term | D4: Semester | E4: Domestic | F4: International | G4: Total
G5: =SUM(E5:F5) -> 0 | H5: =LEFT(C5,1)
G6: =SUM(E6:F6) -> 0 | H6: =LEFT(C6,1)
G7: =SUM(E7:F7) -> 0 | H7: =LEFT(C7,1)
G8: =SUM(E8:F8) -> 0 | H8: =LEFT(C8,1)
G9: =SUM(E9:F9) -> 0 | H9: =LEFT(C9,1)
G10: =SUM(E10:F10) -> 0 | H10: =LEFT(C10,1)
G11: =SUM(E11:F11) -> 0 | H11: =LEFT(C11,1)
G12: =SUM(E12:F12) -> 0 | H12: =LEFT(C12,1)
G13: =SUM(E13:F13) -> 0 | H13: =LEFT(C13,1)
G14: =SUM(E14:F14) -> 0 | H14: =LEFT(C14,1)
G15: =SUM(E15:F15) -> 0 | H15: =LEFT(C15,1)
G16: =SUM(E16:F16) -> 0 | H16: =LEFT(C16,1)
... G151: =SUM(E151:F151) -> 0 | H151: =LEFT(C151,1)

Sheet Enrol Summary
A1: Program Costing Enrolment Forecast | N1: Version Date: | O1: ='Program Summary'!$C$2 -> 0
A2: Program Name: | B2: ='Program Summary'!C3 -> 0 | N2: Location: | O2: ='Program Summary'!$C$4 -> 0
A3: Launch Date | B3: ='Program Summary'!C5 -> 27/28
E4: =MID(B3,3,2)+1 -> #VALUE! | F4: =RIGHT(B3,2)+1 -> 29 | H4: =E4+1 -> #VALUE! | I4: =F4+1 -> 30 | K4: =H4+1 -> #VALUE! | L4: =I4+1 -> 31 | N4: =K4+1 -> #VALUE! | O4: =L4+1 -> 32
B5: DOMESTIC ENROLMENT
A6: Fiscal Year | B6: =$B3 -> 27/28 | C6: =$B3 -> 27/28 | D6: =$B3 -> 27/28 | E6: =CONCATENATE(LEFT(B6,2)+1,"/",RIGHT(B6,2)+1) -> 28/29 | F6: =CONCATENATE(LEFT(C6,2)+1,"/",RIGHT(C6,2)+1) -> 28/29 | G6: =CONCATENATE(LEFT(D6,2)+1,"/",RIGHT(D6,2)+1) -> 28/29 | H6: =CONCATENATE(LEFT(E6,2)+1,"/",RIGHT(E6,2)+1) -> 29/30 | I6: =CONCATENATE(LEFT(F6,2)+1,"/",RIGHT(F6,2)+1) -> 29/30 | J6: =CONCATENATE(LEFT(G6,2)+1,"/",RIGHT(G6,2)+1) -> 29/30 | K6: =CONCATENATE(LEFT(H6,2)+1,"/",RIGHT(H6,2)+1) -> 30/31 | L6: =CONCATENATE(LEFT(I6,2)+1,"/",RIGHT(I6,2)+1) -> 30/31 | ... P6: =CONCATENATE(LEFT(M6,2)+1,"/",RIGHT(M6,2)+1) -> 31/32
A7: Domestic | B7: S | C7: F | D7: W | E7: S | F7: F | G7: W | H7: S | I7: F | J7: W | K7: S | L7: F | M7: W | N7: S | O7: F | P7: W
A8: Semester 1 | B8: =SUMIFS(Enrolment!$E:$E,Enrolment!$B:$B,B$6,Enrolment!$H:$H,B$7,Enrolment!$D:$D,RIGHT($A8,1)) -> 0 | C8: =SUMIFS(Enrolment!$E:$E,Enrolment!$B:$B,C$6,Enrolment!$H:$H,C$7,Enrolment!$D:$D,RIGHT($A8,1)) -> 0 | D8: =SUMIFS(Enrolment!$E:$E,Enrolment!$B:$B,D$6,Enrolment!$H:$H,D$7,Enrolment!$D:$D,RIGHT($A8,1)) -> 0 | E8: =SUMIFS(Enrolment!$E:$E,Enrolment!$B:$B,E$6,Enrolment!$H:$H,E$7,Enrolment!$D:$D,RIGHT($A8,1)) -> 0 | F8: =SUMIFS(Enrolment!$E:$E,Enrolment!$B:$B,F$6,Enrolment!$H:$H,F$7,Enrolment!$D:$D,RIGHT($A8,1)) -> 0 | G8: =SUMIFS(Enrolment!$E:$E,Enrolment!$B:$B,G$6,Enrolment!$H:$H,G$7,Enrolment!$D:$D,RIGHT($A8,1)) -> 0 | H8: =SUMIFS(Enrolment!$E:$E,Enrolment!$B:$B,H$6,Enrolment!$H:$H,H$7,Enrolment!$D:$D,RIGHT($A8,1)) -> 0 | I8: =SUMIFS(Enrolment!$E:$E,Enrolment!$B:$B,I$6,Enrolment!$H:$H,I$7,Enrolment!$D:$D,RIGHT($A8,1)) -> 0 | ... P8: =SUMIFS(Enrolment!$E:$E,Enrolment!$B:$B,P$6,Enrolment!$H:$H,P$7,Enrolment!$D:$D,RIGHT($A8,1)) -> 0
A9: Semester 2 | B9: =SUMIFS(Enrolment!$E:$E,Enrolment!$B:$B,B$6,Enrolment!$H:$H,B$7,Enrolment!$D:$D,RIGHT($A9,1)) -> 0 | C9: =SUMIFS(Enrolment!$E:$E,Enrolment!$B:$B,C$6,Enrolment!$H:$H,C$7,Enrolment!$D:$D,RIGHT($A9,1)) -> 0 | D9: =SUMIFS(Enrolment!$E:$E,Enrolment!$B:$B,D$6,Enrolment!$H:$H,D$7,Enrolment!$D:$D,RIGHT($A9,1)) -> 0 | E9: =SUMIFS(Enrolment!$E:$E,Enrolment!$B:$B,E$6,Enrolment!$H:$H,E$7,Enrolment!$D:$D,RIGHT($A9,1)) -> 0 | F9: =SUMIFS(Enrolment!$E:$E,Enrolment!$B:$B,F$6,Enrolment!$H:$H,F$7,Enrolment!$D:$D,RIGHT($A9,1)) -> 0 | G9: =SUMIFS(Enrolment!$E:$E,Enrolment!$B:$B,G$6,Enrolment!$H:$H,G$7,Enrolment!$D:$D,RIGHT($A9,1)) -> 0 | H9: =SUMIFS(Enrolment!$E:$E,Enrolment!$B:$B,H$6,Enrolment!$H:$H,H$7,Enrolment!$D:$D,RIGHT($A9,1)) -> 0 | I9: =SUMIFS(Enrolment!$E:$E,Enrolment!$B:$B,I$6,Enrolment!$H:$H,I$7,Enrolment!$D:$D,RIGHT($A9,1)) -> 0 | ... P9: =SUMIFS(Enrolment!$E:$E,Enrolment!$B:$B,P$6,Enrolment!$H:$H,P$7,Enrolment!$D:$D,RIGHT($A9,1)) -> 0
A10: Semester 3 | B10: =SUMIFS(Enrolment!$E:$E,Enrolment!$B:$B,B$6,Enrolment!$H:$H,B$7,Enrolment!$D:$D,RIGHT($A10,1)) -> 0 | C10: =SUMIFS(Enrolment!$E:$E,Enrolment!$B:$B,C$6,Enrolment!$H:$H,C$7,Enrolment!$D:$D,RIGHT($A10,1)) -> 0 | D10: =SUMIFS(Enrolment!$E:$E,Enrolment!$B:$B,D$6,Enrolment!$H:$H,D$7,Enrolment!$D:$D,RIGHT($A10,1)) -> 0 | E10: =SUMIFS(Enrolment!$E:$E,Enrolment!$B:$B,E$6,Enrolment!$H:$H,E$7,Enrolment!$D:$D,RIGHT($A10,1)) -> 0 | F10: =SUMIFS(Enrolment!$E:$E,Enrolment!$B:$B,F$6,Enrolment!$H:$H,F$7,Enrolment!$D:$D,RIGHT($A10,1)) -> 0 | G10: =SUMIFS(Enrolment!$E:$E,Enrolment!$B:$B,G$6,Enrolment!$H:$H,G$7,Enrolment!$D:$D,RIGHT($A10,1)) -> 0 | H10: =SUMIFS(Enrolment!$E:$E,Enrolment!$B:$B,H$6,Enrolment!$H:$H,H$7,Enrolment!$D:$D,RIGHT($A10,1)) -> 0 | I10: =SUMIFS(Enrolment!$E:$E,Enrolment!$B:$B,I$6,Enrolment!$H:$H,I$7,Enrolment!$D:$D,RIGHT($A10,1)) -> 0 | ... P10: =SUMIFS(Enrolment!$E:$E,Enrolment!$B:$B,P$6,Enrolment!$H:$H,P$7,Enrolment!$D:$D,RIGHT($A10,1)) -> 0
A11: Semester 4 | B11: =SUMIFS(Enrolment!$E:$E,Enrolment!$B:$B,B$6,Enrolment!$H:$H,B$7,Enrolment!$D:$D,RIGHT($A11,1)) -> 0 | C11: =SUMIFS(Enrolment!$E:$E,Enrolment!$B:$B,C$6,Enrolment!$H:$H,C$7,Enrolment!$D:$D,RIGHT($A11,1)) -> 0 | D11: =SUMIFS(Enrolment!$E:$E,Enrolment!$B:$B,D$6,Enrolment!$H:$H,D$7,Enrolment!$D:$D,RIGHT($A11,1)) -> 0 | E11: =SUMIFS(Enrolment!$E:$E,Enrolment!$B:$B,E$6,Enrolment!$H:$H,E$7,Enrolment!$D:$D,RIGHT($A11,1)) -> 0 | F11: =SUMIFS(Enrolment!$E:$E,Enrolment!$B:$B,F$6,Enrolment!$H:$H,F$7,Enrolment!$D:$D,RIGHT($A11,1)) -> 0 | G11: =SUMIFS(Enrolment!$E:$E,Enrolment!$B:$B,G$6,Enrolment!$H:$H,G$7,Enrolment!$D:$D,RIGHT($A11,1)) -> 0 | H11: =SUMIFS(Enrolment!$E:$E,Enrolment!$B:$B,H$6,Enrolment!$H:$H,H$7,Enrolment!$D:$D,RIGHT($A11,1)) -> 0 | I11: =SUMIFS(Enrolment!$E:$E,Enrolment!$B:$B,I$6,Enrolment!$H:$H,I$7,Enrolment!$D:$D,RIGHT($A11,1)) -> 0 | ... P11: =SUMIFS(Enrolment!$E:$E,Enrolment!$B:$B,P$6,Enrolment!$H:$H,P$7,Enrolment!$D:$D,RIGHT($A11,1)) -> 0
A12: Semester 5 | B12: =SUMIFS(Enrolment!$E:$E,Enrolment!$B:$B,B$6,Enrolment!$H:$H,B$7,Enrolment!$D:$D,RIGHT($A12,1)) -> 0 | C12: =SUMIFS(Enrolment!$E:$E,Enrolment!$B:$B,C$6,Enrolment!$H:$H,C$7,Enrolment!$D:$D,RIGHT($A12,1)) -> 0 | D12: =SUMIFS(Enrolment!$E:$E,Enrolment!$B:$B,D$6,Enrolment!$H:$H,D$7,Enrolment!$D:$D,RIGHT($A12,1)) -> 0 | E12: =SUMIFS(Enrolment!$E:$E,Enrolment!$B:$B,E$6,Enrolment!$H:$H,E$7,Enrolment!$D:$D,RIGHT($A12,1)) -> 0 | F12: =SUMIFS(Enrolment!$E:$E,Enrolment!$B:$B,F$6,Enrolment!$H:$H,F$7,Enrolment!$D:$D,RIGHT($A12,1)) -> 0 | G12: =SUMIFS(Enrolment!$E:$E,Enrolment!$B:$B,G$6,Enrolment!$H:$H,G$7,Enrolment!$D:$D,RIGHT($A12,1)) -> 0 | H12: =SUMIFS(Enrolment!$E:$E,Enrolment!$B:$B,H$6,Enrolment!$H:$H,H$7,Enrolment!$D:$D,RIGHT($A12,1)) -> 0 | I12: =SUMIFS(Enrolment!$E:$E,Enrolment!$B:$B,I$6,Enrolment!$H:$H,I$7,Enrolment!$D:$D,RIGHT($A12,1)) -> 0 | ... P12: =SUMIFS(Enrolment!$E:$E,Enrolment!$B:$B,P$6,Enrolment!$H:$H,P$7,Enrolment!$D:$D,RIGHT($A12,1)) -> 0
A13: Semester 6 | B13: =SUMIFS(Enrolment!$E:$E,Enrolment!$B:$B,B$6,Enrolment!$H:$H,B$7,Enrolment!$D:$D,RIGHT($A13,1)) -> 0 | C13: =SUMIFS(Enrolment!$E:$E,Enrolment!$B:$B,C$6,Enrolment!$H:$H,C$7,Enrolment!$D:$D,RIGHT($A13,1)) -> 0 | D13: =SUMIFS(Enrolment!$E:$E,Enrolment!$B:$B,D$6,Enrolment!$H:$H,D$7,Enrolment!$D:$D,RIGHT($A13,1)) -> 0 | E13: =SUMIFS(Enrolment!$E:$E,Enrolment!$B:$B,E$6,Enrolment!$H:$H,E$7,Enrolment!$D:$D,RIGHT($A13,1)) -> 0 | F13: =SUMIFS(Enrolment!$E:$E,Enrolment!$B:$B,F$6,Enrolment!$H:$H,F$7,Enrolment!$D:$D,RIGHT($A13,1)) -> 0 | G13: =SUMIFS(Enrolment!$E:$E,Enrolment!$B:$B,G$6,Enrolment!$H:$H,G$7,Enrolment!$D:$D,RIGHT($A13,1)) -> 0 | H13: =SUMIFS(Enrolment!$E:$E,Enrolment!$B:$B,H$6,Enrolment!$H:$H,H$7,Enrolment!$D:$D,RIGHT($A13,1)) -> 0 | I13: =SUMIFS(Enrolment!$E:$E,Enrolment!$B:$B,I$6,Enrolment!$H:$H,I$7,Enrolment!$D:$D,RIGHT($A13,1)) -> 0 | ... P13: =SUMIFS(Enrolment!$E:$E,Enrolment!$B:$B,P$6,Enrolment!$H:$H,P$7,Enrolment!$D:$D,RIGHT($A13,1)) -> 0
A14: Semester 7 | B14: =SUMIFS(Enrolment!$E:$E,Enrolment!$B:$B,B$6,Enrolment!$H:$H,B$7,Enrolment!$D:$D,RIGHT($A14,1)) -> 0 | C14: =SUMIFS(Enrolment!$E:$E,Enrolment!$B:$B,C$6,Enrolment!$H:$H,C$7,Enrolment!$D:$D,RIGHT($A14,1)) -> 0 | D14: =SUMIFS(Enrolment!$E:$E,Enrolment!$B:$B,D$6,Enrolment!$H:$H,D$7,Enrolment!$D:$D,RIGHT($A14,1)) -> 0 | E14: =SUMIFS(Enrolment!$E:$E,Enrolment!$B:$B,E$6,Enrolment!$H:$H,E$7,Enrolment!$D:$D,RIGHT($A14,1)) -> 0 | F14: =SUMIFS(Enrolment!$E:$E,Enrolment!$B:$B,F$6,Enrolment!$H:$H,F$7,Enrolment!$D:$D,RIGHT($A14,1)) -> 0 | G14: =SUMIFS(Enrolment!$E:$E,Enrolment!$B:$B,G$6,Enrolment!$H:$H,G$7,Enrolment!$D:$D,RIGHT($A14,1)) -> 0 | H14: =SUMIFS(Enrolment!$E:$E,Enrolment!$B:$B,H$6,Enrolment!$H:$H,H$7,Enrolment!$D:$D,RIGHT($A14,1)) -> 0 | I14: =SUMIFS(Enrolment!$E:$E,Enrolment!$B:$B,I$6,Enrolment!$H:$H,I$7,Enrolment!$D:$D,RIGHT($A14,1)) -> 0 | ... P14: =SUMIFS(Enrolment!$E:$E,Enrolment!$B:$B,P$6,Enrolment!$H:$H,P$7,Enrolment!$D:$D,RIGHT($A14,1)) -> 0
A15: Semester 8 | B15: =SUMIFS(Enrolment!$E:$E,Enrolment!$B:$B,B$6,Enrolment!$H:$H,B$7,Enrolment!$D:$D,RIGHT($A15,1)) -> 0 | C15: =SUMIFS(Enrolment!$E:$E,Enrolment!$B:$B,C$6,Enrolment!$H:$H,C$7,Enrolment!$D:$D,RIGHT($A15,1)) -> 0 | D15: =SUMIFS(Enrolment!$E:$E,Enrolment!$B:$B,D$6,Enrolment!$H:$H,D$7,Enrolment!$D:$D,RIGHT($A15,1)) -> 0 | E15: =SUMIFS(Enrolment!$E:$E,Enrolment!$B:$B,E$6,Enrolment!$H:$H,E$7,Enrolment!$D:$D,RIGHT($A15,1)) -> 0 | F15: =SUMIFS(Enrolment!$E:$E,Enrolment!$B:$B,F$6,Enrolment!$H:$H,F$7,Enrolment!$D:$D,RIGHT($A15,1)) -> 0 | G15: =SUMIFS(Enrolment!$E:$E,Enrolment!$B:$B,G$6,Enrolment!$H:$H,G$7,Enrolment!$D:$D,RIGHT($A15,1)) -> 0 | H15: =SUMIFS(Enrolment!$E:$E,Enrolment!$B:$B,H$6,Enrolment!$H:$H,H$7,Enrolment!$D:$D,RIGHT($A15,1)) -> 0 | I15: =SUMIFS(Enrolment!$E:$E,Enrolment!$B:$B,I$6,Enrolment!$H:$H,I$7,Enrolment!$D:$D,RIGHT($A15,1)) -> 0 | ... P15: =SUMIFS(Enrolment!$E:$E,Enrolment!$B:$B,P$6,Enrolment!$H:$H,P$7,Enrolment!$D:$D,RIGHT($A15,1)) -> 0
A16: Semester 9 | B16: =SUMIFS(Enrolment!$E:$E,Enrolment!$B:$B,B$6,Enrolment!$H:$H,B$7,Enrolment!$D:$D,RIGHT($A16,1)) -> 0 | C16: =SUMIFS(Enrolment!$E:$E,Enrolment!$B:$B,C$6,Enrolment!$H:$H,C$7,Enrolment!$D:$D,RIGHT($A16,1)) -> 0 | D16: =SUMIFS(Enrolment!$E:$E,Enrolment!$B:$B,D$6,Enrolment!$H:$H,D$7,Enrolment!$D:$D,RIGHT($A16,1)) -> 0 | E16: =SUMIFS(Enrolment!$E:$E,Enrolment!$B:$B,E$6,Enrolment!$H:$H,E$7,Enrolment!$D:$D,RIGHT($A16,1)) -> 0 | F16: =SUMIFS(Enrolment!$E:$E,Enrolment!$B:$B,F$6,Enrolment!$H:$H,F$7,Enrolment!$D:$D,RIGHT($A16,1)) -> 0 | G16: =SUMIFS(Enrolment!$E:$E,Enrolment!$B:$B,G$6,Enrolment!$H:$H,G$7,Enrolment!$D:$D,RIGHT($A16,1)) -> 0 | H16: =SUMIFS(Enrolment!$E:$E,Enrolment!$B:$B,H$6,Enrolment!$H:$H,H$7,Enrolment!$D:$D,RIGHT($A16,1)) -> 0 | I16: =SUMIFS(Enrolment!$E:$E,Enrolment!$B:$B,I$6,Enrolment!$H:$H,I$7,Enrolment!$D:$D,RIGHT($A16,1)) -> 0 | ... P16: =SUMIFS(Enrolment!$E:$E,Enrolment!$B:$B,P$6,Enrolment!$H:$H,P$7,Enrolment!$D:$D,RIGHT($A16,1)) -> 0
A17: Ttl Domestic | B17: =SUM(B8:B16) -> 0 | C17: =SUM(C8:C16) -> 0 | D17: =SUM(D8:D16) -> 0 | E17: =SUM(E8:E16) -> 0 | F17: =SUM(F8:F16) -> 0 | G17: =SUM(G8:G16) -> 0 | H17: =SUM(H8:H16) -> 0 | I17: =SUM(I8:I16) -> 0 | ... P17: =SUM(P8:P16) -> 0
B19: INTERNATIONAL ENROLMENT
A20: Fiscal Year | B20: =B$6 -> 27/28 | C20: =C$6 -> 27/28 | D20: =D$6 -> 27/28 | E20: =E$6 -> 28/29 | F20: =F$6 -> 28/29 | G20: =G$6 -> 28/29 | H20: =H$6 -> 29/30 | I20: =I$6 -> 29/30 | ... P20: =P$6 -> 31/32
A21: International | B21: S | C21: F | D21: W | E21: S | F21: F | G21: W | H21: S | I21: F | J21: W | K21: S | L21: F | M21: W | N21: S | O21: F | P21: W
A22: Semester 1 | B22: =SUMIFS(Enrolment!$F:$F,Enrolment!$B:$B,B$6,Enrolment!$H:$H,B$7,Enrolment!$D:$D,RIGHT($A22,1)) -> 0 | C22: =SUMIFS(Enrolment!$F:$F,Enrolment!$B:$B,C$6,Enrolment!$H:$H,C$7,Enrolment!$D:$D,RIGHT($A22,1)) -> 0 | D22: =SUMIFS(Enrolment!$F:$F,Enrolment!$B:$B,D$6,Enrolment!$H:$H,D$7,Enrolment!$D:$D,RIGHT($A22,1)) -> 0 | E22: =SUMIFS(Enrolment!$F:$F,Enrolment!$B:$B,E$6,Enrolment!$H:$H,E$7,Enrolment!$D:$D,RIGHT($A22,1)) -> 0 | F22: =SUMIFS(Enrolment!$F:$F,Enrolment!$B:$B,F$6,Enrolment!$H:$H,F$7,Enrolment!$D:$D,RIGHT($A22,1)) -> 0 | G22: =SUMIFS(Enrolment!$F:$F,Enrolment!$B:$B,G$6,Enrolment!$H:$H,G$7,Enrolment!$D:$D,RIGHT($A22,1)) -> 0 | H22: =SUMIFS(Enrolment!$F:$F,Enrolment!$B:$B,H$6,Enrolment!$H:$H,H$7,Enrolment!$D:$D,RIGHT($A22,1)) -> 0 | I22: =SUMIFS(Enrolment!$F:$F,Enrolment!$B:$B,I$6,Enrolment!$H:$H,I$7,Enrolment!$D:$D,RIGHT($A22,1)) -> 0 | ... P22: =SUMIFS(Enrolment!$F:$F,Enrolment!$B:$B,P$6,Enrolment!$H:$H,P$7,Enrolment!$D:$D,RIGHT($A22,1)) -> 0
A23: Semester 2 | B23: =SUMIFS(Enrolment!$F:$F,Enrolment!$B:$B,B$6,Enrolment!$H:$H,B$7,Enrolment!$D:$D,RIGHT($A23,1)) -> 0 | C23: =SUMIFS(Enrolment!$F:$F,Enrolment!$B:$B,C$6,Enrolment!$H:$H,C$7,Enrolment!$D:$D,RIGHT($A23,1)) -> 0 | D23: =SUMIFS(Enrolment!$F:$F,Enrolment!$B:$B,D$6,Enrolment!$H:$H,D$7,Enrolment!$D:$D,RIGHT($A23,1)) -> 0 | E23: =SUMIFS(Enrolment!$F:$F,Enrolment!$B:$B,E$6,Enrolment!$H:$H,E$7,Enrolment!$D:$D,RIGHT($A23,1)) -> 0 | F23: =SUMIFS(Enrolment!$F:$F,Enrolment!$B:$B,F$6,Enrolment!$H:$H,F$7,Enrolment!$D:$D,RIGHT($A23,1)) -> 0 | G23: =SUMIFS(Enrolment!$F:$F,Enrolment!$B:$B,G$6,Enrolment!$H:$H,G$7,Enrolment!$D:$D,RIGHT($A23,1)) -> 0 | H23: =SUMIFS(Enrolment!$F:$F,Enrolment!$B:$B,H$6,Enrolment!$H:$H,H$7,Enrolment!$D:$D,RIGHT($A23,1)) -> 0 | I23: =SUMIFS(Enrolment!$F:$F,Enrolment!$B:$B,I$6,Enrolment!$H:$H,I$7,Enrolment!$D:$D,RIGHT($A23,1)) -> 0 | ... P23: =SUMIFS(Enrolment!$F:$F,Enrolment!$B:$B,P$6,Enrolment!$H:$H,P$7,Enrolment!$D:$D,RIGHT($A23,1)) -> 0
A24: Semester 3 | B24: =SUMIFS(Enrolment!$F:$F,Enrolment!$B:$B,B$6,Enrolment!$H:$H,B$7,Enrolment!$D:$D,RIGHT($A24,1)) -> 0 | C24: =SUMIFS(Enrolment!$F:$F,Enrolment!$B:$B,C$6,Enrolment!$H:$H,C$7,Enrolment!$D:$D,RIGHT($A24,1)) -> 0 | D24: =SUMIFS(Enrolment!$F:$F,Enrolment!$B:$B,D$6,Enrolment!$H:$H,D$7,Enrolment!$D:$D,RIGHT($A24,1)) -> 0 | E24: =SUMIFS(Enrolment!$F:$F,Enrolment!$B:$B,E$6,Enrolment!$H:$H,E$7,Enrolment!$D:$D,RIGHT($A24,1)) -> 0 | F24: =SUMIFS(Enrolment!$F:$F,Enrolment!$B:$B,F$6,Enrolment!$H:$H,F$7,Enrolment!$D:$D,RIGHT($A24,1)) -> 0 | G24: =SUMIFS(Enrolment!$F:$F,Enrolment!$B:$B,G$6,Enrolment!$H:$H,G$7,Enrolment!$D:$D,RIGHT($A24,1)) -> 0 | H24: =SUMIFS(Enrolment!$F:$F,Enrolment!$B:$B,H$6,Enrolment!$H:$H,H$7,Enrolment!$D:$D,RIGHT($A24,1)) -> 0 | I24: =SUMIFS(Enrolment!$F:$F,Enrolment!$B:$B,I$6,Enrolment!$H:$H,I$7,Enrolment!$D:$D,RIGHT($A24,1)) -> 0 | ... P24: =SUMIFS(Enrolment!$F:$F,Enrolment!$B:$B,P$6,Enrolment!$H:$H,P$7,Enrolment!$D:$D,RIGHT($A24,1)) -> 0
A25: Semester 4 | B25: =SUMIFS(Enrolment!$F:$F,Enrolment!$B:$B,B$6,Enrolment!$H:$H,B$7,Enrolment!$D:$D,RIGHT($A25,1)) -> 0 | C25: =SUMIFS(Enrolment!$F:$F,Enrolment!$B:$B,C$6,Enrolment!$H:$H,C$7,Enrolment!$D:$D,RIGHT($A25,1)) -> 0 | D25: =SUMIFS(Enrolment!$F:$F,Enrolment!$B:$B,D$6,Enrolment!$H:$H,D$7,Enrolment!$D:$D,RIGHT($A25,1)) -> 0 | E25: =SUMIFS(Enrolment!$F:$F,Enrolment!$B:$B,E$6,Enrolment!$H:$H,E$7,Enrolment!$D:$D,RIGHT($A25,1)) -> 0 | F25: =SUMIFS(Enrolment!$F:$F,Enrolment!$B:$B,F$6,Enrolment!$H:$H,F$7,Enrolment!$D:$D,RIGHT($A25,1)) -> 0 | G25: =SUMIFS(Enrolment!$F:$F,Enrolment!$B:$B,G$6,Enrolment!$H:$H,G$7,Enrolment!$D:$D,RIGHT($A25,1)) -> 0 | H25: =SUMIFS(Enrolment!$F:$F,Enrolment!$B:$B,H$6,Enrolment!$H:$H,H$7,Enrolment!$D:$D,RIGHT($A25,1)) -> 0 | I25: =SUMIFS(Enrolment!$F:$F,Enrolment!$B:$B,I$6,Enrolment!$H:$H,I$7,Enrolment!$D:$D,RIGHT($A25,1)) -> 0 | ... P25: =SUMIFS(Enrolment!$F:$F,Enrolment!$B:$B,P$6,Enrolment!$H:$H,P$7,Enrolment!$D:$D,RIGHT($A25,1)) -> 0
A26: Semester 5 | B26: =SUMIFS(Enrolment!$F:$F,Enrolment!$B:$B,B$6,Enrolment!$H:$H,B$7,Enrolment!$D:$D,RIGHT($A26,1)) -> 0 | C26: =SUMIFS(Enrolment!$F:$F,Enrolment!$B:$B,C$6,Enrolment!$H:$H,C$7,Enrolment!$D:$D,RIGHT($A26,1)) -> 0 | D26: =SUMIFS(Enrolment!$F:$F,Enrolment!$B:$B,D$6,Enrolment!$H:$H,D$7,Enrolment!$D:$D,RIGHT($A26,1)) -> 0 | E26: =SUMIFS(Enrolment!$F:$F,Enrolment!$B:$B,E$6,Enrolment!$H:$H,E$7,Enrolment!$D:$D,RIGHT($A26,1)) -> 0 | F26: =SUMIFS(Enrolment!$F:$F,Enrolment!$B:$B,F$6,Enrolment!$H:$H,F$7,Enrolment!$D:$D,RIGHT($A26,1)) -> 0 | G26: =SUMIFS(Enrolment!$F:$F,Enrolment!$B:$B,G$6,Enrolment!$H:$H,G$7,Enrolment!$D:$D,RIGHT($A26,1)) -> 0 | H26: =SUMIFS(Enrolment!$F:$F,Enrolment!$B:$B,H$6,Enrolment!$H:$H,H$7,Enrolment!$D:$D,RIGHT($A26,1)) -> 0 | I26: =SUMIFS(Enrolment!$F:$F,Enrolment!$B:$B,I$6,Enrolment!$H:$H,I$7,Enrolment!$D:$D,RIGHT($A26,1)) -> 0 | ... P26: =SUMIFS(Enrolment!$F:$F,Enrolment!$B:$B,P$6,Enrolment!$H:$H,P$7,Enrolment!$D:$D,RIGHT($A26,1)) -> 0
A27: Semester 6 | B27: =SUMIFS(Enrolment!$F:$F,Enrolment!$B:$B,B$6,Enrolment!$H:$H,B$7,Enrolment!$D:$D,RIGHT($A27,1)) -> 0 | C27: =SUMIFS(Enrolment!$F:$F,Enrolment!$B:$B,C$6,Enrolment!$H:$H,C$7,Enrolment!$D:$D,RIGHT($A27,1)) -> 0 | D27: =SUMIFS(Enrolment!$F:$F,Enrolment!$B:$B,D$6,Enrolment!$H:$H,D$7,Enrolment!$D:$D,RIGHT($A27,1)) -> 0 | E27: =SUMIFS(Enrolment!$F:$F,Enrolment!$B:$B,E$6,Enrolment!$H:$H,E$7,Enrolment!$D:$D,RIGHT($A27,1)) -> 0 | F27: =SUMIFS(Enrolment!$F:$F,Enrolment!$B:$B,F$6,Enrolment!$H:$H,F$7,Enrolment!$D:$D,RIGHT($A27,1)) -> 0 | G27: =SUMIFS(Enrolment!$F:$F,Enrolment!$B:$B,G$6,Enrolment!$H:$H,G$7,Enrolment!$D:$D,RIGHT($A27,1)) -> 0 | H27: =SUMIFS(Enrolment!$F:$F,Enrolment!$B:$B,H$6,Enrolment!$H:$H,H$7,Enrolment!$D:$D,RIGHT($A27,1)) -> 0 | I27: =SUMIFS(Enrolment!$F:$F,Enrolment!$B:$B,I$6,Enrolment!$H:$H,I$7,Enrolment!$D:$D,RIGHT($A27,1)) -> 0 | ... P27: =SUMIFS(Enrolment!$F:$F,Enrolment!$B:$B,P$6,Enrolment!$H:$H,P$7,Enrolment!$D:$D,RIGHT($A27,1)) -> 0
A28: Semester 7 | B28: =SUMIFS(Enrolment!$F:$F,Enrolment!$B:$B,B$6,Enrolment!$H:$H,B$7,Enrolment!$D:$D,RIGHT($A28,1)) -> 0 | C28: =SUMIFS(Enrolment!$F:$F,Enrolment!$B:$B,C$6,Enrolment!$H:$H,C$7,Enrolment!$D:$D,RIGHT($A28,1)) -> 0 | D28: =SUMIFS(Enrolment!$F:$F,Enrolment!$B:$B,D$6,Enrolment!$H:$H,D$7,Enrolment!$D:$D,RIGHT($A28,1)) -> 0 | E28: =SUMIFS(Enrolment!$F:$F,Enrolment!$B:$B,E$6,Enrolment!$H:$H,E$7,Enrolment!$D:$D,RIGHT($A28,1)) -> 0 | F28: =SUMIFS(Enrolment!$F:$F,Enrolment!$B:$B,F$6,Enrolment!$H:$H,F$7,Enrolment!$D:$D,RIGHT($A28,1)) -> 0 | G28: =SUMIFS(Enrolment!$F:$F,Enrolment!$B:$B,G$6,Enrolment!$H:$H,G$7,Enrolment!$D:$D,RIGHT($A28,1)) -> 0 | H28: =SUMIFS(Enrolment!$F:$F,Enrolment!$B:$B,H$6,Enrolment!$H:$H,H$7,Enrolment!$D:$D,RIGHT($A28,1)) -> 0 | I28: =SUMIFS(Enrolment!$F:$F,Enrolment!$B:$B,I$6,Enrolment!$H:$H,I$7,Enrolment!$D:$D,RIGHT($A28,1)) -> 0 | ... P28: =SUMIFS(Enrolment!$F:$F,Enrolment!$B:$B,P$6,Enrolment!$H:$H,P$7,Enrolment!$D:$D,RIGHT($A28,1)) -> 0
A29: Semester 8 | B29: =SUMIFS(Enrolment!$F:$F,Enrolment!$B:$B,B$6,Enrolment!$H:$H,B$7,Enrolment!$D:$D,RIGHT($A29,1)) -> 0 | C29: =SUMIFS(Enrolment!$F:$F,Enrolment!$B:$B,C$6,Enrolment!$H:$H,C$7,Enrolment!$D:$D,RIGHT($A29,1)) -> 0 | D29: =SUMIFS(Enrolment!$F:$F,Enrolment!$B:$B,D$6,Enrolment!$H:$H,D$7,Enrolment!$D:$D,RIGHT($A29,1)) -> 0 | E29: =SUMIFS(Enrolment!$F:$F,Enrolment!$B:$B,E$6,Enrolment!$H:$H,E$7,Enrolment!$D:$D,RIGHT($A29,1)) -> 0 | F29: =SUMIFS(Enrolment!$F:$F,Enrolment!$B:$B,F$6,Enrolment!$H:$H,F$7,Enrolment!$D:$D,RIGHT($A29,1)) -> 0 | G29: =SUMIFS(Enrolment!$F:$F,Enrolment!$B:$B,G$6,Enrolment!$H:$H,G$7,Enrolment!$D:$D,RIGHT($A29,1)) -> 0 | H29: =SUMIFS(Enrolment!$F:$F,Enrolment!$B:$B,H$6,Enrolment!$H:$H,H$7,Enrolment!$D:$D,RIGHT($A29,1)) -> 0 | I29: =SUMIFS(Enrolment!$F:$F,Enrolment!$B:$B,I$6,Enrolment!$H:$H,I$7,Enrolment!$D:$D,RIGHT($A29,1)) -> 0 | ... P29: =SUMIFS(Enrolment!$F:$F,Enrolment!$B:$B,P$6,Enrolment!$H:$H,P$7,Enrolment!$D:$D,RIGHT($A29,1)) -> 0
A30: Semester 9 | B30: =SUMIFS(Enrolment!$F:$F,Enrolment!$B:$B,B$6,Enrolment!$H:$H,B$7,Enrolment!$D:$D,RIGHT($A30,1)) -> 0 | C30: =SUMIFS(Enrolment!$F:$F,Enrolment!$B:$B,C$6,Enrolment!$H:$H,C$7,Enrolment!$D:$D,RIGHT($A30,1)) -> 0 | D30: =SUMIFS(Enrolment!$F:$F,Enrolment!$B:$B,D$6,Enrolment!$H:$H,D$7,Enrolment!$D:$D,RIGHT($A30,1)) -> 0 | E30: =SUMIFS(Enrolment!$F:$F,Enrolment!$B:$B,E$6,Enrolment!$H:$H,E$7,Enrolment!$D:$D,RIGHT($A30,1)) -> 0 | F30: =SUMIFS(Enrolment!$F:$F,Enrolment!$B:$B,F$6,Enrolment!$H:$H,F$7,Enrolment!$D:$D,RIGHT($A30,1)) -> 0 | G30: =SUMIFS(Enrolment!$F:$F,Enrolment!$B:$B,G$6,Enrolment!$H:$H,G$7,Enrolment!$D:$D,RIGHT($A30,1)) -> 0 | H30: =SUMIFS(Enrolment!$F:$F,Enrolment!$B:$B,H$6,Enrolment!$H:$H,H$7,Enrolment!$D:$D,RIGHT($A30,1)) -> 0 | I30: =SUMIFS(Enrolment!$F:$F,Enrolment!$B:$B,I$6,Enrolment!$H:$H,I$7,Enrolment!$D:$D,RIGHT($A30,1)) -> 0 | ... P30: =SUMIFS(Enrolment!$F:$F,Enrolment!$B:$B,P$6,Enrolment!$H:$H,P$7,Enrolment!$D:$D,RIGHT($A30,1)) -> 0
A31: Ttl International | B31: =SUM(B22:B30) -> 0 | C31: =SUM(C22:C30) -> 0 | D31: =SUM(D22:D30) -> 0 | E31: =SUM(E22:E30) -> 0 | F31: =SUM(F22:F30) -> 0 | G31: =SUM(G22:G30) -> 0 | H31: =SUM(H22:H30) -> 0 | I31: =SUM(I22:I30) -> 0 | ... P31: =SUM(P22:P30) -> 0
B38: GRAND TOTAL ENROLMENT
B39: =B$6 -> 27/28 | C39: =C$6 -> 27/28 | D39: =D$6 -> 27/28 | E39: =E$6 -> 28/29 | F39: =F$6 -> 28/29 | G39: =G$6 -> 28/29 | H39: =H$6 -> 29/30 | I39: =I$6 -> 29/30 | ... P39: =P$6 -> 31/32
A40: Grand Total | B40: S | C40: F | D40: W | E40: S | F40: F | G40: W | H40: S | I40: F | J40: W | K40: S | L40: F | M40: W | N40: S | O40: F | P40: W
A41: Semester 1 | B41: =B8+B22 -> 0 | C41: =C8+C22 -> 0 | D41: =D8+D22 -> 0 | E41: =E8+E22 -> 0 | F41: =F8+F22 -> 0 | G41: =G8+G22 -> 0 | H41: =H8+H22 -> 0 | I41: =I8+I22 -> 0 | ... P41: =P8+P22 -> 0
A42: Semester 2 | B42: =B9+B23 -> 0 | C42: =C9+C23 -> 0 | D42: =D9+D23 -> 0 | E42: =E9+E23 -> 0 | F42: =F9+F23 -> 0 | G42: =G9+G23 -> 0 | H42: =H9+H23 -> 0 | I42: =I9+I23 -> 0 | ... P42: =P9+P23 -> 0
A43: Semester 3 | B43: =B10+B24 -> 0 | C43: =C10+C24 -> 0 | D43: =D10+D24 -> 0 | E43: =E10+E24 -> 0 | F43: =F10+F24 -> 0 | G43: =G10+G24 -> 0 | H43: =H10+H24 -> 0 | I43: =I10+I24 -> 0 | ... P43: =P10+P24 -> 0
A44: Semester 4 | B44: =B11+B25 -> 0 | C44: =C11+C25 -> 0 | D44: =D11+D25 -> 0 | E44: =E11+E25 -> 0 | F44: =F11+F25 -> 0 | G44: =G11+G25 -> 0 | H44: =H11+H25 -> 0 | I44: =I11+I25 -> 0 | ... P44: =P11+P25 -> 0
A45: Semester 5 | B45: =B12+B26 -> 0 | C45: =C12+C26 -> 0 | D45: =D12+D26 -> 0 | E45: =E12+E26 -> 0 | F45: =F12+F26 -> 0 | G45: =G12+G26 -> 0 | H45: =H12+H26 -> 0 | I45: =I12+I26 -> 0 | ... P45: =P12+P26 -> 0
A46: Semester 6 | B46: =B13+B27 -> 0 | C46: =C13+C27 -> 0 | D46: =D13+D27 -> 0 | E46: =E13+E27 -> 0 | F46: =F13+F27 -> 0 | G46: =G13+G27 -> 0 | H46: =H13+H27 -> 0 | I46: =I13+I27 -> 0 | ... P46: =P13+P27 -> 0
A47: Semester 7 | B47: =B14+B28 -> 0 | C47: =C14+C28 -> 0 | D47: =D14+D28 -> 0 | E47: =E14+E28 -> 0 | F47: =F14+F28 -> 0 | G47: =G14+G28 -> 0 | H47: =H14+H28 -> 0 | I47: =I14+I28 -> 0 | ... P47: =P14+P28 -> 0
...

Sheet TCH
A1: TCH Calcs
A3: Select via Dropdown
A4: Fiscal Year | B4: Term | C4: Sem | D4: Course Code | E4: Course Name | F4: Type | G4: Sec Max | H4: SCH | I4: TCH Faculty | J4: TCH Placement Support | K4: Ttl TCH Other Support | L4: Enrol | M4: Sections | N4: Ttl TCH Faculty | O4: Ttl TCH Placement Support | P4: Ttl TCH Other Support
G5: =IFERROR(VLOOKUP(F5,'Program Summary'!$F$45:$G$49,2,FALSE),0) -> 0 | L5: =SUMIFS(Enrolment!G:G,Enrolment!B:B,A5,Enrolment!C:C,B5,Enrolment!D:D,C5) -> 0 | M5: =IF(L5<>0,IFERROR(ROUNDUP(L5/G5,0),1),0) -> 0 | N5: =I5*$M5 -> 0 | O5: =J5*$M5 -> 0 | P5: =K5*$M5 -> 0 | Q5: =SUM(O5:P5) -> 0 | R5: =LEFT(B5,1)
G6: =IFERROR(VLOOKUP(F6,'Program Summary'!$F$45:$G$49,2,FALSE),0) -> 0 | L6: =SUMIFS(Enrolment!G:G,Enrolment!B:B,A6,Enrolment!C:C,B6,Enrolment!D:D,C6) -> 0 | M6: =IF(L6<>0,IFERROR(ROUNDUP(L6/G6,0),1),0) -> 0 | N6: =I6*$M6 -> 0 | O6: =J6*$M6 -> 0 | P6: =K6*$M6 -> 0 | Q6: =SUM(O6:P6) -> 0 | R6: =LEFT(B6,1)
G7: =IFERROR(VLOOKUP(F7,'Program Summary'!$F$45:$G$49,2,FALSE),0) -> 0 | L7: =SUMIFS(Enrolment!G:G,Enrolment!B:B,A7,Enrolment!C:C,B7,Enrolment!D:D,C7) -> 0 | M7: =IF(L7<>0,IFERROR(ROUNDUP(L7/G7,0),1),0) -> 0 | N7: =I7*$M7 -> 0 | O7: =J7*$M7 -> 0 | P7: =K7*$M7 -> 0 | Q7: =SUM(O7:P7) -> 0 | R7: =LEFT(B7,1)
G8: =IFERROR(VLOOKUP(F8,'Program Summary'!$F$45:$G$49,2,FALSE),0) -> 0 | L8: =SUMIFS(Enrolment!G:G,Enrolment!B:B,A8,Enrolment!C:C,B8,Enrolment!D:D,C8) -> 0 | M8: =IF(L8<>0,IFERROR(ROUNDUP(L8/G8,0),1),0) -> 0 | N8: =I8*$M8 -> 0 | O8: =J8*$M8 -> 0 | P8: =K8*$M8 -> 0 | Q8: =SUM(O8:P8) -> 0 | R8: =LEFT(B8,1)
G9: =IFERROR(VLOOKUP(F9,'Program Summary'!$F$45:$G$49,2,FALSE),0) -> 0 | L9: =SUMIFS(Enrolment!G:G,Enrolment!B:B,A9,Enrolment!C:C,B9,Enrolment!D:D,C9) -> 0 | M9: =IF(L9<>0,IFERROR(ROUNDUP(L9/G9,0),1),0) -> 0 | N9: =I9*$M9 -> 0 | O9: =J9*$M9 -> 0 | P9: =K9*$M9 -> 0 | Q9: =SUM(O9:P9) -> 0 | R9: =LEFT(B9,1)
G10: =IFERROR(VLOOKUP(F10,'Program Summary'!$F$45:$G$49,2,FALSE),0) -> 0 | L10: =SUMIFS(Enrolment!G:G,Enrolment!B:B,A10,Enrolment!C:C,B10,Enrolment!D:D,C10) -> 0 | M10: =IF(L10<>0,IFERROR(ROUNDUP(L10/G10,0),1),0) -> 0 | N10: =I10*$M10 -> 0 | O10: =J10*$M10 -> 0 | P10: =K10*$M10 -> 0 | Q10: =SUM(O10:P10) -> 0 | R10: =LEFT(B10,1)
G11: =IFERROR(VLOOKUP(F11,'Program Summary'!$F$45:$G$49,2,FALSE),0) -> 0 | L11: =SUMIFS(Enrolment!G:G,Enrolment!B:B,A11,Enrolment!C:C,B11,Enrolment!D:D,C11) -> 0 | M11: =IF(L11<>0,IFERROR(ROUNDUP(L11/G11,0),1),0) -> 0 | N11: =I11*$M11 -> 0 | O11: =J11*$M11 -> 0 | P11: =K11*$M11 -> 0 | Q11: =SUM(O11:P11) -> 0 | R11: =LEFT(B11,1)
G12: =IFERROR(VLOOKUP(F12,'Program Summary'!$F$45:$G$49,2,FALSE),0) -> 0 | L12: =SUMIFS(Enrolment!G:G,Enrolment!B:B,A12,Enrolment!C:C,B12,Enrolment!D:D,C12) -> 0 | M12: =IF(L12<>0,IFERROR(ROUNDUP(L12/G12,0),1),0) -> 0 | N12: =I12*$M12 -> 0 | O12: =J12*$M12 -> 0 | P12: =K12*$M12 -> 0 | Q12: =SUM(O12:P12) -> 0 | R12: =LEFT(B12,1)
G13: =IFERROR(VLOOKUP(F13,'Program Summary'!$F$45:$G$49,2,FALSE),0) -> 0 | L13: =SUMIFS(Enrolment!G:G,Enrolment!B:B,A13,Enrolment!C:C,B13,Enrolment!D:D,C13) -> 0 | M13: =IF(L13<>0,IFERROR(ROUNDUP(L13/G13,0),1),0) -> 0 | N13: =I13*$M13 -> 0 | O13: =J13*$M13 -> 0 | P13: =K13*$M13 -> 0 | Q13: =SUM(O13:P13) -> 0 | R13: =LEFT(B13,1)
G14: =IFERROR(VLOOKUP(F14,'Program Summary'!$F$45:$G$49,2,FALSE),0) -> 0 | L14: =SUMIFS(Enrolment!G:G,Enrolment!B:B,A14,Enrolment!C:C,B14,Enrolment!D:D,C14) -> 0 | M14: =IF(L14<>0,IFERROR(ROUNDUP(L14/G14,0),1),0) -> 0 | N14: =I14*$M14 -> 0 | O14: =J14*$M14 -> 0 | P14: =K14*$M14 -> 0 | Q14: =SUM(O14:P14) -> 0 | R14: =LEFT(B14,1)
G15: =IFERROR(VLOOKUP(F15,'Program Summary'!$F$45:$G$49,2,FALSE),0) -> 0 | L15: =SUMIFS(Enrolment!G:G,Enrolment!B:B,A15,Enrolment!C:C,B15,Enrolment!D:D,C15) -> 0 | M15: =IF(L15<>0,IFERROR(ROUNDUP(L15/G15,0),1),0) -> 0 | N15: =I15*$M15 -> 0 | O15: =J15*$M15 -> 0 | P15: =K15*$M15 -> 0 | Q15: =SUM(O15:P15) -> 0 | R15: =LEFT(B15,1)
G16: =IFERROR(VLOOKUP(F16,'Program Summary'!$F$45:$G$49,2,FALSE),0) -> 0 | L16: =SUMIFS(Enrolment!G:G,Enrolment!B:B,A16,Enrolment!C:C,B16,Enrolment!D:D,C16) -> 0 | M16: =IF(L16<>0,IFERROR(ROUNDUP(L16/G16,0),1),0) -> 0 | N16: =I16*$M16 -> 0 | O16: =J16*$M16 -> 0 | P16: =K16*$M16 -> 0 | Q16: =SUM(O16:P16) -> 0 | R16: =LEFT(B16,1)
... G164: =IFERROR(VLOOKUP(F164,'Program Summary'!$F$45:$G$49,2,FALSE),0) -> 0 | L164: =SUMIFS(Enrolment!G:G,Enrolment!B:B,A164,Enrolment!C:C,B164,Enrolment!D:D,C164) -> 0 | M164: =IF(L164<>0,IFERROR(ROUNDUP(L164/G164,0),1),0) -> 0 | N164: =I164*$M164 -> 0 | O164: =J164*$M164 -> 0 | P164: =K164*$M164 -> 0 | Q164: =SUM(O164:P164) -> 0 | R164: =LEFT(B164,1)
C167: Subtotal | H167: =SUBTOTAL(9,H5:H166) -> 0 | I167: =SUBTOTAL(9,I5:I166) -> 0 | J167: =SUBTOTAL(9,J5:J166) -> 0 | K167: =SUBTOTAL(9,K5:K166) -> 0 | M167: =SUBTOTAL(9,M5:M166) -> 0 | N167: =SUBTOTAL(9,N5:N166) -> 0 | O167: =SUBTOTAL(9,O5:O166) -> 0 | P167: =SUBTOTAL(9,P5:P166) -> 0 | Q167: =SUBTOTAL(9,Q5:Q166) -> 0
C168: Reverse Sign Subtotal | H168: =-H167 -> 0 | I168: =-I167 -> 0 | J168: =-J167 -> 0 | K168: =-K167 -> 0 | M168: =-M167 -> 0 | N168: =-N167 -> 0 | O168: =-O167 -> 0 | P168: =-P167 -> 0 | Q168: =-Q167 -> 0

Sheet TCH Summary
A1: Program Costing TCH Forecast - excl TCH from Gen Ed Comms and College Degree Depts | N1: Version Date: | O1: ='Program Summary'!$C$2 -> 0
A2: Program Name: | B2: ='Program Summary'!C3 -> 0 | N2: Location: | O2: ='Program Summary'!$C$4 -> 0
A3: Launch Date | B3: ='Program Summary'!C5 -> 27/28
B5: FACULTY TCH - excl TCH from Gen Ed Comms and College Degree Depts
A6: Fiscal Year | B6: ='Enrol Summary'!$B$6 -> 27/28 | C6: ='Enrol Summary'!C6 -> 27/28 | D6: ='Enrol Summary'!D6 -> 27/28 | E6: =CONCATENATE(LEFT(B6,2)+1,"/",RIGHT(B6,2)+1) -> 28/29 | F6: =CONCATENATE(LEFT(C6,2)+1,"/",RIGHT(C6,2)+1) -> 28/29 | G6: =CONCATENATE(LEFT(D6,2)+1,"/",RIGHT(D6,2)+1) -> 28/29 | H6: =CONCATENATE(LEFT(E6,2)+1,"/",RIGHT(E6,2)+1) -> 29/30 | I6: =CONCATENATE(LEFT(F6,2)+1,"/",RIGHT(F6,2)+1) -> 29/30 | J6: =CONCATENATE(LEFT(G6,2)+1,"/",RIGHT(G6,2)+1) -> 29/30 | K6: =CONCATENATE(LEFT(H6,2)+1,"/",RIGHT(H6,2)+1) -> 30/31 | L6: =CONCATENATE(LEFT(I6,2)+1,"/",RIGHT(I6,2)+1) -> 30/31 | ... P6: =CONCATENATE(LEFT(M6,2)+1,"/",RIGHT(M6,2)+1) -> 31/32
B7: S | C7: F | D7: W | E7: S | F7: F | G7: W | H7: S | I7: F | J7: W | K7: S | L7: F | M7: W | N7: S | O7: F | P7: W
A8: FT Faculty | B8: 0 | C8: 0 | D8: 0 | E8: 0 | F8: 0 | G8: 0 | H8: 0 | I8: 0 | J8: 0 | K8: 0 | L8: 0 | M8: 0 | N8: 0 | O8: 0 | P8: 0
A9: PT Faculty | B9: =SUMIFS(TCH!$N:$N,TCH!$A:$A,B$6,TCH!$R:$R,B$7)-B8 -> 0 | C9: =SUMIFS(TCH!$N:$N,TCH!$A:$A,C$6,TCH!$R:$R,C$7)-C8 -> 0 | D9: =SUMIFS(TCH!$N:$N,TCH!$A:$A,D$6,TCH!$R:$R,D$7)-D8 -> 0 | E9: =SUMIFS(TCH!$N:$N,TCH!$A:$A,E$6,TCH!$R:$R,E$7)-E8 -> 0 | F9: =SUMIFS(TCH!$N:$N,TCH!$A:$A,F$6,TCH!$R:$R,F$7)-F8 -> 0 | G9: =SUMIFS(TCH!$N:$N,TCH!$A:$A,G$6,TCH!$R:$R,G$7)-G8 -> 0 | H9: =SUMIFS(TCH!$N:$N,TCH!$A:$A,H$6,TCH!$R:$R,H$7)-H8 -> 0 | I9: =SUMIFS(TCH!$N:$N,TCH!$A:$A,I$6,TCH!$R:$R,I$7)-I8 -> 0 | ... P9: =SUMIFS(TCH!$N:$N,TCH!$A:$A,P$6,TCH!$R:$R,P$7)-P8 -> 0
A10: Ttl TCH Faculty | B10: =SUM(B8:B9) -> 0 | C10: =SUM(C8:C9) -> 0 | D10: =SUM(D8:D9) -> 0 | E10: =SUM(E8:E9) -> 0 | F10: =SUM(F8:F9) -> 0 | G10: =SUM(G8:G9) -> 0 | H10: =SUM(H8:H9) -> 0 | I10: =SUM(I8:I9) -> 0 | ... P10: =SUM(P8:P9) -> 0
A11: % Taught by FT Faculty | B11: =IFERROR(B8/B10,"") | C11: =IFERROR(C8/C10,"") | D11: =IFERROR(D8/D10,"") | E11: =IFERROR(E8/E10,"") | F11: =IFERROR(F8/F10,"") | G11: =IFERROR(G8/G10,"") | H11: =IFERROR(H8/H10,"") | I11: =IFERROR(I8/I10,"") | ... P11: =IFERROR(P8/P10,"")
B23: SUPPORT TCH
A24: Fiscal Year | B24: ='Enrol Summary'!$B$6 -> 27/28 | C24: ='Enrol Summary'!$B$6 -> 27/28 | D24: ='Enrol Summary'!$B$6 -> 27/28 | E24: =CONCATENATE(LEFT(B24,2)+1,"/",RIGHT(B24,2)+1) -> 28/29 | F24: =CONCATENATE(LEFT(C24,2)+1,"/",RIGHT(C24,2)+1) -> 28/29 | G24: =CONCATENATE(LEFT(D24,2)+1,"/",RIGHT(D24,2)+1) -> 28/29 | H24: =CONCATENATE(LEFT(E24,2)+1,"/",RIGHT(E24,2)+1) -> 29/30 | I24: =CONCATENATE(LEFT(F24,2)+1,"/",RIGHT(F24,2)+1) -> 29/30 | J24: =CONCATENATE(LEFT(G24,2)+1,"/",RIGHT(G24,2)+1) -> 29/30 | K24: =CONCATENATE(LEFT(H24,2)+1,"/",RIGHT(H24,2)+1) -> 30/31 | L24: =CONCATENATE(LEFT(I24,2)+1,"/",RIGHT(I24,2)+1) -> 30/31 | ... P24: =CONCATENATE(LEFT(M24,2)+1,"/",RIGHT(M24,2)+1) -> 31/32
B25: S | C25: F | D25: W | E25: S | F25: F | G25: W | H25: S | I25: F | J25: W | K25: S | L25: F | M25: W | N25: S | O25: F | P25: W
A26: FT Support | B26: 0 | C26: 0 | D26: 0 | E26: 0 | F26: 0 | G26: 0 | H26: 0 | I26: 0 | J26: 0 | K26: 0 | L26: 0 | M26: 0 | N26: 0 | O26: 0 | P26: 0
A27: PT Support | B27: =SUMIFS(TCH!$Q:$Q,TCH!$A:$A,B$6,TCH!$R:$R,B$7)-B26 -> 0 | C27: =SUMIFS(TCH!$Q:$Q,TCH!$A:$A,C$6,TCH!$R:$R,C$7)-C26 -> 0 | D27: =SUMIFS(TCH!$Q:$Q,TCH!$A:$A,D$6,TCH!$R:$R,D$7)-D26 -> 0 | E27: =SUMIFS(TCH!$Q:$Q,TCH!$A:$A,E$6,TCH!$R:$R,E$7)-E26 -> 0 | F27: =SUMIFS(TCH!$Q:$Q,TCH!$A:$A,F$6,TCH!$R:$R,F$7)-F26 -> 0 | G27: =SUMIFS(TCH!$Q:$Q,TCH!$A:$A,G$6,TCH!$R:$R,G$7)-G26 -> 0 | H27: =SUMIFS(TCH!$Q:$Q,TCH!$A:$A,H$6,TCH!$R:$R,H$7)-H26 -> 0 | I27: =SUMIFS(TCH!$Q:$Q,TCH!$A:$A,I$6,TCH!$R:$R,I$7)-I26 -> 0 | ... P27: =SUMIFS(TCH!$Q:$Q,TCH!$A:$A,P$6,TCH!$R:$R,P$7)-P26 -> 0
A28: Ttl TCH Support | B28: =SUM(B26:B27) -> 0 | C28: =SUM(C26:C27) -> 0 | D28: =SUM(D26:D27) -> 0 | E28: =SUM(E26:E27) -> 0 | F28: =SUM(F26:F27) -> 0 | G28: =SUM(G26:G27) -> 0 | H28: =SUM(H26:H27) -> 0 | I28: =SUM(I26:I27) -> 0 | ... P28: =SUM(P26:P27) -> 0
B29: =IFERROR(#REF!/B28,"") | C29: =IFERROR(#REF!/C28,"") | D29: =IFERROR(#REF!/D28,"") | E29: =IFERROR(#REF!/E28,"") | F29: =IFERROR(#REF!/F28,"") | G29: =IFERROR(#REF!/G28,"") | H29: =IFERROR(#REF!/H28,"") | I29: =IFERROR(#REF!/I28,"") | ... P29: =IFERROR(#REF!/P28,"")
B38: FINANCE ONLY - ENROL CHECK
A39: Total All Years | P39: =SUM(B10:P10)+SUM(B28:P28) -> 0
A40: Total per TCH calcs tab | P40: =SUM(TCH!N:P) -> 0
A41: Difference (Must be 0!) | P41: =P39-P40 -> 0
B43: FINANCE ONLY
B45: FACULTY COST (excl Benefits)
B46: ='Enrol Summary'!B$6 -> 27/28 | C46: ='Enrol Summary'!C$6 -> 27/28 | D46: ='Enrol Summary'!D$6 -> 27/28 | E46: =CONCATENATE(LEFT(B46,2)+1,"/",RIGHT(B46,2)+1) -> 28/29 | F46: =CONCATENATE(LEFT(C46,2)+1,"/",RIGHT(C46,2)+1) -> 28/29 | G46: =CONCATENATE(LEFT(D46,2)+1,"/",RIGHT(D46,2)+1) -> 28/29 | H46: =CONCATENATE(LEFT(E46,2)+1,"/",RIGHT(E46,2)+1) -> 29/30 | I46: =CONCATENATE(LEFT(F46,2)+1,"/",RIGHT(F46,2)+1) -> 29/30 | J46: =CONCATENATE(LEFT(G46,2)+1,"/",RIGHT(G46,2)+1) -> 29/30 | K46: =CONCATENATE(LEFT(H46,2)+1,"/",RIGHT(H46,2)+1) -> 30/31 | L46: =CONCATENATE(LEFT(I46,2)+1,"/",RIGHT(I46,2)+1) -> 30/31 | ... P46: =CONCATENATE(LEFT(M46,2)+1,"/",RIGHT(M46,2)+1) -> 31/32
B47: S | C47: F | D47: W | E47: S | F47: F | G47: W | H47: S | I47: F | J47: W | K47: S | L47: F | M47: W | N47: S | O47: F | P47: W
A48: FT Faculty | B48: =B8*'Program Summary'!$D$50 -> 0 | C48: =C8*'Program Summary'!$D$50 -> 0 | D48: =D8*'Program Summary'!$D$50 -> 0 | E48: =E8*'Program Summary'!$E$50 -> 0 | F48: =F8*'Program Summary'!$E$50 -> 0 | G48: =G8*'Program Summary'!$E$50 -> 0 | H48: =H8*'Program Summary'!$F$50 -> 0 | I48: =I8*'Program Summary'!$F$50 -> 0 | J48: =J8*'Program Summary'!$F$50 -> 0 | K48: =K8*'Program Summary'!$G$50 -> 0 | L48: =L8*'Program Summary'!$G$50 -> 0 | M48: =M8*'Program Summary'!$G$50 -> 0 | N48: =N8*'Program Summary'!$H$50 -> 0 | O48: =O8*'Program Summary'!$H$50 -> 0 | P48: =P8*'Program Summary'!$H$50 -> 0
A49: PT Faculty | B49: =B9*'Program Summary'!$D$51 -> 0 | C49: =C9*'Program Summary'!$D$51 -> 0 | D49: =D9*'Program Summary'!$D$51 -> 0 | E49: =E9*'Program Summary'!$E$51 -> 0 | F49: =F9*'Program Summary'!$E$51 -> 0 | G49: =G9*'Program Summary'!$E$51 -> 0 | H49: =H9*'Program Summary'!$F$51 -> 0 | I49: =I9*'Program Summary'!$F$51 -> 0 | J49: =J9*'Program Summary'!$F$51 -> 0 | K49: =K9*'Program Summary'!$G$51 -> 0 | L49: =L9*'Program Summary'!$G$51 -> 0 | M49: =M9*'Program Summary'!$G$51 -> 0 | N49: =N9*'Program Summary'!$H$51 -> 0 | O49: =O9*'Program Summary'!$H$51 -> 0 | P49: =P9*'Program Summary'!$H$51 -> 0
A50: Ttl Faculty Cost | B50: =SUM(B48:B49) -> 0 | C50: =SUM(C48:C49) -> 0 | D50: =SUM(D48:D49) -> 0 | E50: =SUM(E48:E49) -> 0 | F50: =SUM(F48:F49) -> 0 | G50: =SUM(G48:G49) -> 0 | H50: =SUM(H48:H49) -> 0 | I50: =SUM(I48:I49) -> 0 | ... P50: =SUM(P48:P49) -> 0
B52: SUPPORT COST (excl Benefits)
B53: ='Enrol Summary'!B$6 -> 27/28 | C53: ='Enrol Summary'!C$6 -> 27/28 | D53: ='Enrol Summary'!D$6 -> 27/28 | E53: =CONCATENATE(LEFT(B53,2)+1,"/",RIGHT(B53,2)+1) -> 28/29 | F53: =CONCATENATE(LEFT(C53,2)+1,"/",RIGHT(C53,2)+1) -> 28/29 | G53: =CONCATENATE(LEFT(D53,2)+1,"/",RIGHT(D53,2)+1) -> 28/29 | H53: =CONCATENATE(LEFT(E53,2)+1,"/",RIGHT(E53,2)+1) -> 29/30 | I53: =CONCATENATE(LEFT(F53,2)+1,"/",RIGHT(F53,2)+1) -> 29/30 | J53: =CONCATENATE(LEFT(G53,2)+1,"/",RIGHT(G53,2)+1) -> 29/30 | K53: =CONCATENATE(LEFT(H53,2)+1,"/",RIGHT(H53,2)+1) -> 30/31 | L53: =CONCATENATE(LEFT(I53,2)+1,"/",RIGHT(I53,2)+1) -> 30/31 | ... P53: =CONCATENATE(LEFT(M53,2)+1,"/",RIGHT(M53,2)+1) -> 31/32
B54: S | C54: F | D54: W | E54: S | F54: F | G54: W | H54: S | I54: F | J54: W | K54: S | L54: F | M54: W | N54: S | O54: F | P54: W
A55: FT Support | B55: =B26*'Program Summary'!$D$52 -> 0 | C55: =C26*'Program Summary'!$D$52 -> 0 | D55: =D26*'Program Summary'!$D$52 -> 0 | E55: =E26*'Program Summary'!$E$52 -> 0 | F55: =F26*'Program Summary'!$E$52 -> 0 | G55: =G26*'Program Summary'!$E$52 -> 0 | H55: =H26*'Program Summary'!$F$52 -> 0 | I55: =I26*'Program Summary'!$F$52 -> 0 | J55: =J26*'Program Summary'!$F$52 -> 0 | K55: =K26*'Program Summary'!$G$52 -> 0 | L55: =L26*'Program Summary'!$G$52 -> 0 | M55: =M26*'Program Summary'!$G$52 -> 0 | N55: =N26*'Program Summary'!$H$52 -> 0 | O55: =O26*'Program Summary'!$H$52 -> 0 | P55: =P26*'Program Summary'!$H$52 -> 0
A56: PT Support | B56: =B27*'Program Summary'!$D$53 -> 0 | C56: =C27*'Program Summary'!$D$53 -> 0 | D56: =D27*'Program Summary'!$D$53 -> 0 | E56: =E27*'Program Summary'!$E$53 -> 0 | F56: =F27*'Program Summary'!$E$53 -> 0 | G56: =G27*'Program Summary'!$E$53 -> 0 | H56: =H27*'Program Summary'!$F$53 -> 0 | I56: =I27*'Program Summary'!$F$53 -> 0 | J56: =J27*'Program Summary'!$F$53 -> 0 | K56: =K27*'Program Summary'!$G$53 -> 0 | L56: =L27*'Program Summary'!$G$53 -> 0 | M56: =M27*'Program Summary'!$G$53 -> 0 | N56: =N27*'Program Summary'!$H$53 -> 0 | O56: =O27*'Program Summary'!$H$53 -> 0 | P56: =P27*'Program Summary'!$H$53 -> 0
A57: Ttl Support Cost | B57: =SUM(B55:B56) -> 0 | C57: =SUM(C55:C56) -> 0 | D57: =SUM(D55:D56) -> 0 | E57: =SUM(E55:E56) -> 0 | F57: =SUM(F55:F56) -> 0 | G57: =SUM(G55:G56) -> 0 | H57: =SUM(H55:H56) -> 0 | I57: =SUM(I55:I56) -> 0 | ... P57: =SUM(P55:P56) -> 0
B59: Number of GEN ED COMMS / COLLEGE DEGREE BREADTH COURSES
A60: Fiscal Year | B60: ='Enrol Summary'!B$6 -> 27/28 | C60: ='Enrol Summary'!C$6 -> 27/28 | D60: ='Enrol Summary'!D$6 -> 27/28 | E60: =CONCATENATE(LEFT(B60,2)+1,"/",RIGHT(B60,2)+1) -> 28/29 | F60: =CONCATENATE(LEFT(C60,2)+1,"/",RIGHT(C60,2)+1) -> 28/29 | G60: =CONCATENATE(LEFT(D60,2)+1,"/",RIGHT(D60,2)+1) -> 28/29 | H60: =CONCATENATE(LEFT(E60,2)+1,"/",RIGHT(E60,2)+1) -> 29/30 | I60: =CONCATENATE(LEFT(F60,2)+1,"/",RIGHT(F60,2)+1) -> 29/30 | J60: =CONCATENATE(LEFT(G60,2)+1,"/",RIGHT(G60,2)+1) -> 29/30 | K60: =CONCATENATE(LEFT(H60,2)+1,"/",RIGHT(H60,2)+1) -> 30/31 | L60: =CONCATENATE(LEFT(I60,2)+1,"/",RIGHT(I60,2)+1) -> 30/31 | ... P60: =CONCATENATE(LEFT(M60,2)+1,"/",RIGHT(M60,2)+1) -> 31/32
B61: S | C61: F | D61: W | E61: S | F61: F | G61: W | H61: S | I61: F | J61: W | K61: S | L61: F | M61: W | N61: S | O61: F | P61: W
A62: GenEd/Comm | B62: =SUMIFS(TCH!$M:$M,TCH!$A:$A,B$60,TCH!$R:$R,'TCH Summary'!B$61,TCH!$F:$F,$A62) -> 0 | C62: =SUMIFS(TCH!$M:$M,TCH!$A:$A,C$60,TCH!$R:$R,'TCH Summary'!C$61,TCH!$F:$F,$A62) -> 0 | D62: =SUMIFS(TCH!$M:$M,TCH!$A:$A,D$60,TCH!$R:$R,'TCH Summary'!D$61,TCH!$F:$F,$A62) -> 0 | E62: =SUMIFS(TCH!$M:$M,TCH!$A:$A,E$60,TCH!$R:$R,'TCH Summary'!E$61,TCH!$F:$F,$A62) -> 0 | F62: =SUMIFS(TCH!$M:$M,TCH!$A:$A,F$60,TCH!$R:$R,'TCH Summary'!F$61,TCH!$F:$F,$A62) -> 0 | G62: =SUMIFS(TCH!$M:$M,TCH!$A:$A,G$60,TCH!$R:$R,'TCH Summary'!G$61,TCH!$F:$F,$A62) -> 0 | H62: =SUMIFS(TCH!$M:$M,TCH!$A:$A,H$60,TCH!$R:$R,'TCH Summary'!H$61,TCH!$F:$F,$A62) -> 0 | I62: =SUMIFS(TCH!$M:$M,TCH!$A:$A,I$60,TCH!$R:$R,'TCH Summary'!I$61,TCH!$F:$F,$A62) -> 0 | ... P62: =SUMIFS(TCH!$M:$M,TCH!$A:$A,P$60,TCH!$R:$R,'TCH Summary'!P$61,TCH!$F:$F,$A62) -> 0
A63: DegrBreadth | B63: =SUMIFS(TCH!$M:$M,TCH!$A:$A,B$60,TCH!$R:$R,'TCH Summary'!B$61,TCH!$F:$F,$A63) -> 0 | C63: =SUMIFS(TCH!$M:$M,TCH!$A:$A,C$60,TCH!$R:$R,'TCH Summary'!C$61,TCH!$F:$F,$A63) -> 0 | D63: =SUMIFS(TCH!$M:$M,TCH!$A:$A,D$60,TCH!$R:$R,'TCH Summary'!D$61,TCH!$F:$F,$A63) -> 0 | E63: =SUMIFS(TCH!$M:$M,TCH!$A:$A,E$60,TCH!$R:$R,'TCH Summary'!E$61,TCH!$F:$F,$A63) -> 0 | F63: =SUMIFS(TCH!$M:$M,TCH!$A:$A,F$60,TCH!$R:$R,'TCH Summary'!F$61,TCH!$F:$F,$A63) -> 0 | G63: =SUMIFS(TCH!$M:$M,TCH!$A:$A,G$60,TCH!$R:$R,'TCH Summary'!G$61,TCH!$F:$F,$A63) -> 0 | H63: =SUMIFS(TCH!$M:$M,TCH!$A:$A,H$60,TCH!$R:$R,'TCH Summary'!H$61,TCH!$F:$F,$A63) -> 0 | I63: =SUMIFS(TCH!$M:$M,TCH!$A:$A,I$60,TCH!$R:$R,'TCH Summary'!I$61,TCH!$F:$F,$A63) -> 0 | ... P63: =SUMIFS(TCH!$M:$M,TCH!$A:$A,P$60,TCH!$R:$R,'TCH Summary'!P$61,TCH!$F:$F,$A63) -> 0
B65: FINANCE ONLY - COST OF GEN ED COMMS COURSES / COLLEGE DEGREE BREADTH COURSES
...

Sheet Other
A1: Program Costing Other Revenue and Expense Forecast | F1: Version Date: | G1: ='Program Summary'!$C$2 -> 0
A2: =CONCATENATE("Program Name: ",'Program Summary'!C3) -> Program Name: | F2: Location: | G2: ='Program Summary'!$C$4 -> 0
A3: =CONCATENATE("Launch Date: ",'Program Summary'!C5) -> Launch Date: 27/28
A5: Fiscal Year | B5: Pre-Launch Year | C5: ='Enrol Summary'!B6 -> 27/28 | D5: ='Enrol Summary'!E6 -> 28/29 | E5: ='Enrol Summary'!H6 -> 29/30 | F5: ='Enrol Summary'!K6 -> 30/31 | G5: ='Enrol Summary'!N6 -> 31/32
A6: Other Revenues
A7: Other Revenue 1 | C7: 0 | D7: 0 | E7: 0 | F7: 0 | G7: 0
A8: Other Revenue 2 | C8: 0 | D8: 0 | E8: 0 | F8: 0 | G8: 0
A9: Total Other Revenues | C9: =SUM(C7:C8) -> 0 | D9: =SUM(D7:D8) -> 0 | E9: =SUM(E7:E8) -> 0 | F9: =SUM(F7:F8) -> 0 | G9: =SUM(G7:G8) -> 0
A18: Program Development Number of Downloads | B18: =B$5 -> Pre-Launch Year | C18: =C$5 -> 27/28 | D18: =D$5 -> 28/29 | E18: =E$5 -> 29/30 | F18: =F$5 -> 30/31 | G18: =G$5 -> 31/32
A19: Pgm Development: On-Line | C19: 0 | D19: 0 | E19: 0 | F19: 0 | G19: 0
A20: Pgm Development: Excluding On-Line | C20: 0 | D20: 0 | E20: 0 | F20: 0 | G20: 0
A22: Program Development Costs - $5.5K / download
A23: Program Development Costs, on-line | B23: =B19*5500 -> 0 | C23: =C19*5500 -> 0 | D23: =D19*5500 -> 0 | E23: =E19*5500 -> 0 | F23: =F19*5500 -> 0 | G23: =G19*5500 -> 0
A24: Program Development Costs, excluding on-line | B24: =B20*5500 -> 0 | C24: =C20*5500 -> 0 | D24: =D20*5500 -> 0 | E24: =E20*5500 -> 0 | F24: =F20*5500 -> 0 | G24: =G20*5500 -> 0
A26: PT Coordinator Cost (excl benefits) - std would be $5.5K
A28: Other New Salary Costs, Excl Benefits
A29: New FT Support | C29: 0 | D29: 0 | E29: 0 | F29: 0 | G29: 0
A30: New PT Support | C30: 0 | D30: 0 | E30: 0 | F30: 0 | G30: 0
A31: Total Other Salary Costs, excl Benefits | B31: =SUM(B23:B30) -> 0 | C31: =SUM(C23:C30) -> 0 | D31: =SUM(D23:D30) -> 0 | E31: =SUM(E23:E30) -> 0 | F31: =SUM(F23:F30) -> 0 | G31: =SUM(G23:G30) -> 0
A41: Non Salary Direct | B41: =B$5 -> Pre-Launch Year | C41: =C$5 -> 27/28 | D41: =D$5 -> 28/29 | E41: =E$5 -> 29/30 | F41: =F$5 -> 30/31 | G41: =G$5 -> 31/32
A42: Instructional | B42: 0
A43: Specialized Equipment - Non Capital | B43: 0 | C43: 0 | D43: 0 | E43: 0 | F43: 0 | G43: 0
A44: Other Non Salary 1 | B44: 0 | C44: 0 | D44: 0 | E44: 0 | F44: 0 | G44: 0
A45: Other Non Salary 2 | B45: 0 | C45: 0 | D45: 0 | E45: 0 | F45: 0 | G45: 0
A46: Other Non Salary 3 | B46: 0 | C46: 0 | D46: 0 | E46: 0 | F46: 0 | G46: 0
A47: Total Non Salary Direct | B47: =SUM(B42:B46) -> 0 | C47: =SUM(C42:C46) -> 0 | D47: =SUM(D42:D46) -> 0 | E47: =SUM(E42:E46) -> 0 | F47: =SUM(F42:F46) -> 0 | G47: =SUM(G42:G46) -> 0
A56: Capital | B56: =B$5 -> Pre-Launch Year | C56: =C$5 -> 27/28 | D56: =D$5 -> 28/29 | E56: =E$5 -> 29/30 | F56: =F$5 -> 30/31 | G56: =G$5 -> 31/32
A57: Other Internal Depts | B57: ='Other Internal Depts'!D12 -> 0 | C57: ='Other Internal Depts'!E12 -> 0 | D57: ='Other Internal Depts'!F12 -> 0 | E57: ='Other Internal Depts'!G12 -> 0 | F57: ='Other Internal Depts'!H12 -> 0 | G57: ='Other Internal Depts'!I12 -> 0
A58: Other Capital 1 | C58: 0 | D58: 0 | E58: 0 | F58: 0 | G58: 0
A59: Other Capital 2 | B59: 0 | C59: 0 | D59: 0 | E59: 0 | F59: 0 | G59: 0
A60: Total Capital | B60: =SUM(B57:B59) -> 0 | C60: =SUM(C57:C59) -> 0 | D60: =SUM(D57:D59) -> 0 | E60: =SUM(E57:E59) -> 0 | F60: =SUM(F57:F59) -> 0 | G60: =SUM(G57:G59) -> 0
A69: Non Salary Charges to be incurred by Other Internal Depts | B69: =B$5 -> Pre-Launch Year | C69: =C$5 -> 27/28 | D69: =D$5 -> 28/29 | E69: =E$5 -> 29/30 | F69: =F$5 -> 30/31 | G69: =G$5 -> 31/32
A70: Total Internal Depts | B70: ='Other Internal Depts'!D20 -> 0 | C70: ='Other Internal Depts'!E20 -> 0 | D70: ='Other Internal Depts'!F20 -> 0 | E70: ='Other Internal Depts'!G20 -> 0 | F70: ='Other Internal Depts'!H20 -> 0 | G70: ='Other Internal Depts'!I20 -> 0
A71: Library Costs (calc at base amt per student semester) | C71: =SUM('Enrol Summary'!$B50:$D50)*'Summary - Finance'!$C88 -> 0 | D71: =SUM('Enrol Summary'!$E50:$G50)*'Summary - Finance'!$C88 -> 0 | E71: =SUM('Enrol Summary'!$H50:$J50)*'Summary - Finance'!$C88 -> 0 | F71: =SUM('Enrol Summary'!$K50:$M50)*'Summary - Finance'!$C88 -> 0 | G71: =SUM('Enrol Summary'!$N50:$P50)*'Summary - Finance'!$C88 -> 0
A72: Total Non Salary Direct - Other Depts | B72: =SUM(B70:B71) -> 0 | C72: =SUM(C70:C71) -> 0 | D72: =SUM(D70:D71) -> 0 | E72: =SUM(E70:E71) -> 0 | F72: =SUM(F70:F71) -> 0 | G72: =SUM(G70:G71) -> 0

Sheet Other Internal Depts
A1: Other Internal Depts Consultation and Approval
A2: Program: | F2: ='Program Summary'!C3 -> 0
A3: Type of Consultation (choose from drop-down) | F3: New Program
A5: Other Internal Dept | C5: Item(s) | D5: Pre-Launch Year | E5: ='Enrol Summary'!B6 -> 27/28 | F5: ='Enrol Summary'!E6 -> 28/29 | G5: ='Enrol Summary'!H6 -> 29/30 | H5: ='Enrol Summary'!K6 -> 30/31 | I5: ='Enrol Summary'!N6 -> 31/32
A6: Capital
A7: Facilities | C7: Bldg reno | E7: 0 | F7: 0 | G7: 0 | H7: 0 | I7: 0
A8: IT | D8: 0 | E8: 0 | F8: 0 | G8: 0 | H8: 0 | I8: 0
A9: Marketing | D9: 0 | E9: 0 | F9: 0 | G9: 0 | H9: 0 | I9: 0
A10: Other | D10: 0 | E10: 0 | F10: 0 | G10: 0 | H10: 0 | I10: 0
A11: Other | D11: 0 | E11: 0 | F11: 0 | G11: 0 | H11: 0 | I11: 0
A12: Capital Total | D12: =SUM(D7:D11) -> 0 | E12: =SUM(E7:E11) -> 0 | F12: =SUM(F7:F11) -> 0 | G12: =SUM(G7:G11) -> 0 | H12: =SUM(H7:H11) -> 0 | I12: =SUM(I7:I11) -> 0
A14: Non Capital
A15: Facilities | D15: 0 | E15: 0 | F15: 0 | G15: 0 | H15: 0 | I15: 0
A16: IT | D16: 0 | E16: 0 | F16: 0 | G16: 0 | H16: 0 | I16: 0
A17: Marketing | C17: new pgm launch | I17: 0
A18: Other | D18: 0 | E18: 0 | F18: 0 | G18: 0 | H18: 0 | I18: 0
A19: Other | D19: 0 | E19: 0 | F19: 0 | G19: 0 | H19: 0 | I19: 0
A20: Non Salary Total | D20: =SUM(D15:D19) -> 0 | E20: =SUM(E15:E19) -> 0 | F20: =SUM(F15:F19) -> 0 | G20: =SUM(G15:G19) -> 0 | H20: =SUM(H15:H19) -> 0 | I20: =SUM(I15:I19) -> 0
A29: New Program
A30: Program Change / Renewal

Sheet Summary - Finance
A1: Program Costing Summary - Finance | F1: Version Date: | G1: ='Program Summary'!$C$2 -> 0
A2: =CONCATENATE("Program Name: ",'Program Summary'!C3) -> Program Name: | F2: Location: | G2: ='Program Summary'!$C$4 -> 0
A3: =CONCATENATE("Launch Date: ",'Program Summary'!C5) -> Launch Date: 27/28
A5: Fiscal Year | B5: Pre-Launch Year | C5: ='Enrol Summary'!B6 -> 27/28 | D5: ='Enrol Summary'!E6 -> 28/29 | E5: ='Enrol Summary'!H6 -> 29/30 | F5: ='Enrol Summary'!K6 -> 30/31 | G5: ='Enrol Summary'!N6 -> 31/32 | H5: Account for Budget | I5: Account Note
A6: Revenues
A7: Domestic Tuition | C7: =SUM('Enrol Summary'!B61:D61) -> 0 | D7: =SUM('Enrol Summary'!E61:G61) -> 0 | E7: =SUM('Enrol Summary'!H61:J61) -> 0 | F7: =SUM('Enrol Summary'!K61:M61) -> 0 | G7: =SUM('Enrol Summary'!N61:P61) -> 0 | H7: n/a | I7: populated from Hyperion
A8: Domestic Grant | C8: =SUM('Enrol Summary'!B62:D62) -> 0 | D8: =SUM('Enrol Summary'!E62:G62) -> 0 | E8: =SUM('Enrol Summary'!H62:J62) -> 0 | F8: =SUM('Enrol Summary'!K62:M62) -> 0 | G8: =SUM('Enrol Summary'!N62:P62) -> 0 | H8: n/a | I8: populated from Hyperion
A9: International Tuition | C9: =SUM('Enrol Summary'!B63:D63) -> 0 | D9: =SUM('Enrol Summary'!E63:G63) -> 0 | E9: =SUM('Enrol Summary'!H63:J63) -> 0 | F9: =SUM('Enrol Summary'!K63:M63) -> 0 | G9: =SUM('Enrol Summary'!N63:P63) -> 0 | H9: n/a | I9: populated from Hyperion
A10: Incidental Fees | C10: =SUM('Enrol Summary'!B64:D64) -> 0 | D10: =SUM('Enrol Summary'!E64:G64) -> 0 | E10: =SUM('Enrol Summary'!H64:J64) -> 0 | F10: =SUM('Enrol Summary'!K64:M64) -> 0 | G10: =SUM('Enrol Summary'!N64:P64) -> 0 | H10: n/a | I10: populated from Hyperion
A11: Other | C11: =Other!C9 -> 0 | D11: =Other!D9 -> 0 | E11: =Other!E9 -> 0 | F11: =Other!F9 -> 0 | G11: =Other!G9 -> 0 | H11: TBD
A12: Total Revenues | B12: =SUM(B7:B11) -> 0 | C12: =SUM(C7:C11) -> 0 | D12: =SUM(D7:D11) -> 0 | E12: =SUM(E7:E11) -> 0 | F12: =SUM(F7:F11) -> 0 | G12: =SUM(G7:G11) -> 0
A14: FT Salaries and Benefits
A15: Faculty | C15: =SUM('TCH Summary'!B48:D48) -> 0 | D15: =SUM('TCH Summary'!E48:G48) -> 0 | E15: =SUM('TCH Summary'!H48:J48) -> 0 | F15: =SUM('TCH Summary'!K48:M48) -> 0 | G15: =SUM('TCH Summary'!N48:P48) -> 0 | H15: n/a | I15: populated from Labour Planning
A16: Faculty CPP EI EHT | C16: =C$15*$C$82 -> 0 | D16: =D$15*$C$82 -> 0 | E16: =E$15*$C$82 -> 0 | F16: =F$15*$C$82 -> 0 | G16: =G$15*$C$82 -> 0 | H16: n/a | I16: populated from Labour Planning
A17: Faculty Ext Benefits | C17: =C$15*$D$82 -> 0 | D17: =D$15*$D$82 -> 0 | E17: =E$15*$D$82 -> 0 | F17: =F$15*$D$82 -> 0 | G17: =G$15*$D$82 -> 0 | H17: n/a | I17: populated from Labour Planning
A18: Faculty CAAT | C18: =C$15*$E$82 -> 0 | D18: =D$15*$E$82 -> 0 | E18: =E$15*$E$82 -> 0 | F18: =F$15*$E$82 -> 0 | G18: =G$15*$E$82 -> 0 | H18: n/a | I18: populated from Labour Planning
A19: Support | C19: =SUM('TCH Summary'!B55:D55)+Other!C29 -> 0 | D19: =SUM('TCH Summary'!E55:G55)+Other!D29 -> 0 | E19: =SUM('TCH Summary'!H55:J55)+Other!E29 -> 0 | F19: =SUM('TCH Summary'!K55:M55)+Other!F29 -> 0 | G19: =SUM('TCH Summary'!N55:P55)+Other!G29 -> 0 | H19: n/a | I19: populated from Labour Planning
A20: Support CPP EI EHT | C20: =C$19*$C$83 -> 0 | D20: =D$19*$C$82 -> 0 | E20: =E$19*$C$82 -> 0 | F20: =F$19*$C$82 -> 0 | G20: =G$19*$C$82 -> 0 | H20: n/a | I20: populated from Labour Planning
A21: Support Ext Benefits | C21: =C$19*$D$83 -> 0 | D21: =D$19*$D$83 -> 0 | E21: =E$19*$D$83 -> 0 | F21: =F$19*$D$83 -> 0 | G21: =G$19*$D$83 -> 0 | H21: n/a | I21: populated from Labour Planning
A22: Support CAAT | C22: =C$19*$E$83 -> 0 | D22: =D$19*$E$83 -> 0 | E22: =E$19*$E$83 -> 0 | F22: =F$19*$E$83 -> 0 | G22: =G$19*$E$83 -> 0 | H22: n/a | I22: populated from Labour Planning
A23: Total FT Salaries and Benefits | B23: =SUM(B15:B22) -> 0 | C23: =SUM(C15:C22) -> 0 | D23: =SUM(D15:D22) -> 0 | E23: =SUM(E15:E22) -> 0 | F23: =SUM(F15:F22) -> 0 | G23: =SUM(G15:G22) -> 0
A25: PT Salaries and Benefits
A26: Faculty Teaching | C26: =SUM('TCH Summary'!B49:D49) -> 0 | D26: =SUM('TCH Summary'!E49:G49) -> 0 | E26: =SUM('TCH Summary'!H49:J49) -> 0 | F26: =SUM('TCH Summary'!K49:M49) -> 0 | G26: =SUM('TCH Summary'!N49:P49) -> 0 | H26: n/a | I26: populated from TCH process
A27: Faculty Teaching CPP EI EHT | C27: =C$26*$C$84 -> 0 | D27: =D$26*$C$84 -> 0 | E27: =E$26*$C$84 -> 0 | F27: =F$26*$C$84 -> 0 | G27: =G$26*$C$84 -> 0 | H27: n/a | I27: populated from TCH process
A28: Faculty Teaching Ext Benefits | C28: =C$26*$D$84 -> 0 | D28: =D$26*$D$84 -> 0 | E28: =E$26*$D$84 -> 0 | F28: =F$26*$D$84 -> 0 | G28: =G$26*$D$84 -> 0 | H28: n/a | I28: populated from TCH process
