Workbook
Name _edn1: Enrolment!#REF!
Name _edn1: GECD!#REF!
Name _edn1: Other!#REF!
Name _edn1: 'Program Summary'!#REF!
Name _edn1: 'Summary - BOG'!#REF!
Name _edn1: 'Summary - Finance'!#REF!
Name _edn1: TCH!#REF!
Name _edn2: Enrolment!#REF!
Name _edn2: GECD!#REF!
Name _edn2: Other!#REF!
Name _edn2: 'Program Summary'!#REF!
Name _edn2: 'Summary - BOG'!#REF!
Name _edn2: 'Summary - Finance'!#REF!
Name _edn2: TCH!#REF!
Name _edn3: Enrolment!#REF!
Name _edn3: GECD!#REF!
Name _edn3: Other!#REF!
Name _edn3: 'Program Summary'!#REF!
Name _edn3: 'Summary - BOG'!#REF!
Name _edn3: 'Summary - Finance'!#REF!
Name _edn3: TCH!#REF!
Name _edn4: Enrolment!#REF!
Name _edn4: GECD!#REF!
Name _edn4: Other!#REF!
Name _edn4: 'Program Summary'!#REF!
Name _edn4: 'Summary - BOG'!#REF!
Name _edn4: 'Summary - Finance'!#REF!
Name _edn4: TCH!#REF!
Name _edn5: Enrolment!#REF!
Name _edn5: GECD!#REF!
Name _edn5: Other!#REF!
Name _edn5: 'Program Summary'!#REF!
Name _edn5: 'Summary - BOG'!#REF!
Name _edn5: 'Summary - Finance'!#REF!
Name _edn5: TCH!#REF!
Name _edn6: Enrolment!#REF!
Name _edn6: GECD!#REF!
Name _edn6: Other!#REF!
Name _edn6: 'Program Summary'!#REF!
Name _edn6: 'Summary - BOG'!#REF!
Name _edn6: 'Summary - Finance'!#REF!
Name _edn6: TCH!#REF!
Name _edn7: Enrolment!#REF!
Name _edn7: GECD!#REF!
Name _edn7: Other!#REF!
Name _edn7: 'Program Summary'!#REF!
Name _edn7: 'Summary - BOG'!#REF!
Name _edn7: 'Summary - Finance'!#REF!
Name _edn7: TCH!#REF!
Name _edn8: Enrolment!#REF!
Name _edn8: GECD!#REF!
Name _edn8: Other!#REF!
Name _edn8: 'Program Summary'!#REF!
Name _edn8: 'Summary - BOG'!#REF!
Name _edn8: 'Summary - Finance'!#REF!
Name _edn8: TCH!#REF!
Name _ednref1: Enrolment!#REF!
Name _ednref1: GECD!#REF!
Name _ednref1: Other!#REF!
Name _ednref1: 'Program Summary'!#REF!

Sheet Instructions
A23: http://www.tcu.gov.on.ca/pepg/audiences/colleges/

Sheet Program Summary
A1: Program Costing Summary
A2: Version Date
A3: Program Name
A4: Campus Launch
A5: Fiscal Year of Planned Program Launch
C6: Template Version Date 08/25/25
B7: Academic Area | C7: Engineering Technology
B9: Tuition, Lab Fees, and Grant Revenue
C10: Domestic Tuition | D10: International Tuition | E10: Lab Fees
A11: 1 | B11: What are the fees per semester?
A13: 2 | B13: Grant per Weighted Funding Unit (WFU) (approx)* | C13: 4276
B14: What is the weight per the MTCU code?
B15: What is the funding units per the MTCU code?
B16: What are the number of semesters in the program?
B17: The approximate program weight per semester is: | C17: =IFERROR(C14*C15/C16,0) -> 0
B27: *NOTE: Due to Corridor Funding, launching a program may have to be offset by suspension of another program.
B29: Progression
A30: 1 | B30: Please insert comments below of the progression of your program
B35: Staffing - Please also attach a loading sheet
A36: 1 | B36: What is the maximum section size?
A38: 2 | B38: Are there new coordinator hours associated with the program?
A40: 3 | B40: Rates (excluding Benefits) and Other | C40: Rate | D40: Hire New? | E40: # New Required
B41: FT Faculty (standard is $310/hr) | C41: 310
B42: PT Faculty | D42: n/a | E42: n/a
B43: FT Technician
B44: PT Technician | D44: n/a | E44: n/a
B45: FT Technologist
B46: PT Technologist | D46: n/a | E46: n/a
B48: =IF(OR(E41<>"",E43<>""),"Please comment below on when new hire required in plan","")
C140: Yes | D140: Annual
C141: No | D141: 1 Time

Sheet Enrolment
A1: Program Costing Enrolment Forecast | N1: Version Date: | O1: ='Program Summary'!$C$2 -> 0
A2: Program Name: | B2: ='Program Summary'!C3 -> 0 | N2: Location: | O2: ='Program Summary'!$C$4 -> 0
A3: Launch Date | B3: ='Program Summary'!C5 -> 0
B5: DOMESTIC ENROLMENT
A6: Fiscal Year | B6: =B3 -> 0
A7: Domestic | B7: S | C7: F | D7: W | E7: S | F7: F | G7: W | H7: S | I7: F | J7: W | K7: S | L7: F | M7: W | N7: S | O7: F | P7: W
A8: Year 1
A9: Intake 1 | B9: 0 | C9: 0 | D9: 0 | E9: 0 | F9: 0 | G9: 0 | H9: 0 | I9: 0 | J9: 0 | K9: 0 | L9: 0 | M9: 0 | N9: 0 | O9: 0 | P9: 0
A10: Intake 2 | B10: 0 | C10: 0 | D10: 0 | E10: 0 | F10: 0 | G10: 0 | H10: 0 | I10: 0 | J10: 0 | K10: 0 | L10: 0 | M10: 0 | N10: 0 | O10: 0 | P10: 0
A11: Year 2
A12: Intake 1 | B12: 0 | C12: 0 | D12: 0 | E12: 0 | F12: 0 | G12: 0 | H12: 0 | I12: 0 | J12: 0 | K12: 0 | L12: 0 | M12: 0 | N12: 0 | O12: 0 | P12: 0
A13: Intake 2 | B13: 0 | C13: 0 | D13: 0 | E13: 0 | F13: 0 | G13: 0 | H13: 0 | I13: 0 | J13: 0 | K13: 0 | L13: 0 | M13: 0 | N13: 0 | O13: 0 | P13: 0
A14: Year 3
A15: Intake 1 | B15: 0 | C15: 0 | D15: 0 | E15: 0 | F15: 0 | G15: 0 | H15: 0 | I15: 0 | J15: 0 | K15: 0 | L15: 0 | M15: 0 | N15: 0 | O15: 0 | P15: 0
A16: Intake 2 | B16: 0 | C16: 0 | D16: 0 | E16: 0 | F16: 0 | G16: 0 | H16: 0 | I16: 0 | J16: 0 | K16: 0 | L16: 0 | M16: 0 | N16: 0 | O16: 0 | P16: 0
A17: Year 4
A18: Intake 1 | B18: 0 | C18: 0 | D18: 0 | E18: 0 | F18: 0 | G18: 0 | H18: 0 | I18: 0 | J18: 0 | K18: 0 | L18: 0 | M18: 0 | N18: 0 | O18: 0 | P18: 0
A19: Intake 2 | B19: 0 | C19: 0 | D19: 0 | E19: 0 | F19: 0 | G19: 0 | H19: 0 | I19: 0 | J19: 0 | K19: 0 | L19: 0 | M19: 0 | N19: 0 | O19: 0 | P19: 0
A20: Ttl Domestic | B20: =SUM(B9:B19) -> 0 | C20: =SUM(C9:C19) -> 0 | D20: =SUM(D9:D19) -> 0 | E20: =SUM(E9:E19) -> 0 | F20: =SUM(F9:F19) -> 0 | G20: =SUM(G9:G19) -> 0 | H20: =SUM(H9:H19) -> 0 | I20: =SUM(I9:I19) -> 0 | ... P20: =SUM(P9:P19) -> 0
B22: INTERNATIONAL ENROLMENT
A23: Fiscal Year | B23: =B6 -> 0 | E23: =E6 -> 0 | H23: =H6 -> 0 | K23: =K6 -> 0 | N23: =N6 -> 0
A24: International | B24: S | C24: F | D24: W | E24: S | F24: F | G24: W | H24: S | I24: F | J24: W | K24: S | L24: F | M24: W | N24: S | O24: F | P24: W
A25: Year 1
A26: Intake 1 | B26: 0 | C26: 0 | D26: 0 | E26: 0 | F26: 0 | G26: 0 | H26: 0 | I26: 0 | J26: 0 | K26: 0 | L26: 0 | M26: 0 | N26: 0 | O26: 0 | P26: 0
A27: Intake 2 | B27: 0 | C27: 0 | D27: 0 | E27: 0 | F27: 0 | G27: 0 | H27: 0 | I27: 0 | J27: 0 | K27: 0 | L27: 0 | M27: 0 | N27: 0 | O27: 0 | P27: 0
A28: Year 2
A29: Intake 1 | B29: 0 | C29: 0 | D29: 0 | E29: 0 | F29: 0 | G29: 0 | H29: 0 | I29: 0 | J29: 0 | K29: 0 | L29: 0 | M29: 0 | N29: 0 | O29: 0 | P29: 0
A30: Intake 2 | B30: 0 | C30: 0 | D30: 0 | E30: 0 | F30: 0 | G30: 0 | H30: 0 | I30: 0 | J30: 0 | K30: 0 | L30: 0 | M30: 0 | N30: 0 | O30: 0 | P30: 0
A31: Year 3
A32: Intake 1 | B32: 0 | C32: 0 | D32: 0 | E32: 0 | F32: 0 | G32: 0 | H32: 0 | I32: 0 | J32: 0 | K32: 0 | L32: 0 | M32: 0 | N32: 0 | O32: 0 | P32: 0
A33: Intake 2 | B33: 0 | C33: 0 | D33: 0 | E33: 0 | F33: 0 | G33: 0 | H33: 0 | I33: 0 | J33: 0 | K33: 0 | L33: 0 | M33: 0 | N33: 0 | O33: 0 | P33: 0
A34: Year 4
A35: Intake 1 | B35: 0 | C35: 0 | D35: 0 | E35: 0 | F35: 0 | G35: 0 | H35: 0 | I35: 0 | J35: 0 | K35: 0 | L35: 0 | M35: 0 | N35: 0 | O35: 0 | P35: 0
A36: Intake 2 | B36: 0 | C36: 0 | D36: 0 | E36: 0 | F36: 0 | G36: 0 | H36: 0 | I36: 0 | J36: 0 | K36: 0 | L36: 0 | M36: 0 | N36: 0 | O36: 0 | P36: 0
A37: Ttl International | B37: =SUM(B26:B36) -> 0 | C37: =SUM(C26:C36) -> 0 | D37: =SUM(D26:D36) -> 0 | E37: =SUM(E26:E36) -> 0 | F37: =SUM(F26:F36) -> 0 | G37: =SUM(G26:G36) -> 0 | H37: =SUM(H26:H36) -> 0 | I37: =SUM(I26:I36) -> 0 | ... P37: =SUM(P26:P36) -> 0
B44: GRAND TOTAL ENROLMENT
B45: =B23 -> 0 | E45: =E23 -> 0 | H45: =H23 -> 0 | K45: =K23 -> 0 | N45: =N23 -> 0
A46: Grand Total | B46: S | C46: F | D46: W | E46: S | F46: F | G46: W | H46: S | I46: F | J46: W | K46: S | L46: F | M46: W | N46: S | O46: F | P46: W
A47: Year 1
A48: Intake 1 | B48: =B9+B26 -> 0 | C48: =C9+C26 -> 0 | D48: =D9+D26 -> 0 | E48: =E9+E26 -> 0 | F48: =F9+F26 -> 0 | G48: =G9+G26 -> 0 | H48: =H9+H26 -> 0 | I48: =I9+I26 -> 0 | ... P48: =P9+P26 -> 0
...

Sheet TCH
A1: Program Costing TCH Forecast - excl TCH from Gen Ed Comms and College Degree Depts | N1: Version Date: | O1: ='Program Summary'!$C$2 -> 0
A2: Program Name: | B2: ='Program Summary'!C3 -> 0 | N2: Location: | O2: ='Program Summary'!$C$4 -> 0
A3: Launch Date | B3: ='Program Summary'!C5 -> 0
B5: FACULTY TCH - excl TCH from Gen Ed Comms and College Degree Depts
A6: Fiscal Year | B6: =B3 -> 0 | E6: =Enrolment!E6 -> 0 | H6: =Enrolment!H6 -> 0 | K6: =Enrolment!K6 -> 0 | N6: =Enrolment!N6 -> 0
B7: S | C7: F | D7: W | E7: S | F7: F | G7: W | H7: S | I7: F | J7: W | K7: S | L7: F | M7: W | N7: S | O7: F | P7: W
A8: Year 1
A9: Intake 1 - FT Faculty | B9: 0 | C9: 0 | D9: 0 | E9: 0 | F9: 0 | G9: 0 | H9: 0 | I9: 0 | J9: 0 | K9: 0 | L9: 0 | M9: 0 | N9: 0 | O9: 0 | P9: 0
A10: Intake 1 - PT Faculty | B10: 0 | C10: 0 | D10: 0 | E10: 0 | F10: 0 | G10: 0 | H10: 0 | I10: 0 | J10: 0 | K10: 0 | L10: 0 | M10: 0 | N10: 0 | O10: 0 | P10: 0
A11: Intake 2 - FT Faculty | B11: 0 | C11: 0 | D11: 0 | E11: 0 | F11: 0 | G11: 0 | H11: 0 | I11: 0 | J11: 0 | K11: 0 | L11: 0 | M11: 0 | N11: 0 | O11: 0 | P11: 0
A12: Intake 2 - PT Faculty | B12: 0 | C12: 0 | D12: 0 | E12: 0 | F12: 0 | G12: 0 | H12: 0 | I12: 0 | J12: 0 | K12: 0 | L12: 0 | M12: 0 | N12: 0 | O12: 0 | P12: 0
A13: Year 2
A14: Intake 1 - FT Faculty | B14: 0 | C14: 0 | D14: 0 | E14: 0 | F14: 0 | G14: 0 | H14: 0 | I14: 0 | J14: 0 | K14: 0 | L14: 0 | M14: 0 | N14: 0 | O14: 0 | P14: 0
A15: Intake 1 - PT Faculty | B15: 0 | C15: 0 | D15: 0 | E15: 0 | F15: 0 | G15: 0 | H15: 0 | I15: 0 | J15: 0 | K15: 0 | L15: 0 | M15: 0 | N15: 0 | O15: 0 | P15: 0
A16: Intake 2 - FT Faculty | B16: 0 | C16: 0 | D16: 0 | E16: 0 | F16: 0 | G16: 0 | H16: 0 | I16: 0 | J16: 0 | K16: 0 | L16: 0 | M16: 0 | N16: 0 | O16: 0 | P16: 0
A17: Intake 2 - PT Faculty | B17: 0 | C17: 0 | D17: 0 | E17: 0 | F17: 0 | G17: 0 | H17: 0 | I17: 0 | J17: 0 | K17: 0 | L17: 0 | M17: 0 | N17: 0 | O17: 0 | P17: 0
A18: Year 3
A19: Intake 1 - FT Faculty | B19: 0 | C19: 0 | D19: 0 | E19: 0 | F19: 0 | G19: 0 | H19: 0 | I19: 0 | J19: 0 | K19: 0 | L19: 0 | M19: 0 | N19: 0 | O19: 0 | P19: 0
A20: Intake 1 - PT Faculty | B20: 0 | C20: 0 | D20: 0 | E20: 0 | F20: 0 | G20: 0 | H20: 0 | I20: 0 | J20: 0 | K20: 0 | L20: 0 | M20: 0 | N20: 0 | O20: 0 | P20: 0
A21: Intake 2 - FT Faculty | B21: 0 | C21: 0 | D21: 0 | E21: 0 | F21: 0 | G21: 0 | H21: 0 | I21: 0 | J21: 0 | K21: 0 | L21: 0 | M21: 0 | N21: 0 | O21: 0 | P21: 0
A22: Intake 2 - PT Faculty | B22: 0 | C22: 0 | D22: 0 | E22: 0 | F22: 0 | G22: 0 | H22: 0 | I22: 0 | J22: 0 | K22: 0 | L22: 0 | M22: 0 | N22: 0 | O22: 0 | P22: 0
A23: Year 4
A24: Intake 1 - FT Faculty | B24: 0 | C24: 0 | D24: 0 | E24: 0 | F24: 0 | G24: 0 | H24: 0 | I24: 0 | J24: 0 | K24: 0 | L24: 0 | M24: 0 | N24: 0 | O24: 0 | P24: 0
A25: Intake 1 - PT Faculty | B25: 0 | C25: 0 | D25: 0 | E25: 0 | F25: 0 | G25: 0 | H25: 0 | I25: 0 | J25: 0 | K25: 0 | L25: 0 | M25: 0 | N25: 0 | O25: 0 | P25: 0
A26: Intake 2 - FT Faculty | B26: 0 | C26: 0 | D26: 0 | E26: 0 | F26: 0 | G26: 0 | H26: 0 | I26: 0 | J26: 0 | K26: 0 | L26: 0 | M26: 0 | N26: 0 | O26: 0 | P26: 0
A27: Intake 2 - PT Faculty | B27: 0 | C27: 0 | D27: 0 | E27: 0 | F27: 0 | G27: 0 | H27: 0 | I27: 0 | J27: 0 | K27: 0 | L27: 0 | M27: 0 | N27: 0 | O27: 0 | P27: 0
A28: Ttl TCH FT Faculty | B28: =SUM(B9,B11,B14,B16,B19,B21,B24,B26) -> 0 | C28: =SUM(C9,C11,C14,C16,C19,C21,C24,C26) -> 0 | D28: =SUM(D9,D11,D14,D16,D19,D21,D24,D26) -> 0 | E28: =SUM(E9,E11,E14,E16,E19,E21,E24,E26) -> 0 | F28: =SUM(F9,F11,F14,F16,F19,F21,F24,F26) -> 0 | G28: =SUM(G9,G11,G14,G16,G19,G21,G24,G26) -> 0 | H28: =SUM(H9,H11,H14,H16,H19,H21,H24,H26) -> 0 | I28: =SUM(I9,I11,I14,I16,I19,I21,I24,I26) -> 0 | ... P28: =SUM(P9,P11,P14,P16,P19,P21,P24,P26) -> 0
A29: Ttl TCH PT Faculty | B29: =SUM(B10,B12,B15,B17,B20,B22,B25,B27) -> 0 | C29: =SUM(C10,C12,C15,C17,C20,C22,C25,C27) -> 0 | D29: =SUM(D10,D12,D15,D17,D20,D22,D25,D27) -> 0 | E29: =SUM(E10,E12,E15,E17,E20,E22,E25,E27) -> 0 | F29: =SUM(F10,F12,F15,F17,F20,F22,F25,F27) -> 0 | G29: =SUM(G10,G12,G15,G17,G20,G22,G25,G27) -> 0 | H29: =SUM(H10,H12,H15,H17,H20,H22,H25,H27) -> 0 | I29: =SUM(I10,I12,I15,I17,I20,I22,I25,I27) -> 0 | ... P29: =SUM(P10,P12,P15,P17,P20,P22,P25,P27) -> 0
A30: Ttl TCH Faculty | B30: =SUM(B28:B29) -> 0 | C30: =SUM(C28:C29) -> 0 | D30: =SUM(D28:D29) -> 0 | E30: =SUM(E28:E29) -> 0 | F30: =SUM(F28:F29) -> 0 | G30: =SUM(G28:G29) -> 0 | H30: =SUM(H28:H29) -> 0 | I30: =SUM(I28:I29) -> 0 | ... P30: =SUM(P28:P29) -> 0
A31: % Taught by FT Faculty | B31: =IFERROR(B28/B30,"") | C31: =IFERROR(C28/C30,"") | D31: =IFERROR(D28/D30,"") | E31: =IFERROR(E28/E30,"") | F31: =IFERROR(F28/F30,"") | G31: =IFERROR(G28/G30,"") | H31: =IFERROR(H28/H30,"") | I31: =IFERROR(I28/I30,"") | ... P31: =IFERROR(P28/P30,"")
B43: TECHNICIAN TCH
A44: Fiscal Year | B44: =B$6 -> 0 | E44: =E$6 -> 0 | H44: =H$6 -> 0 | K44: =K$6 -> 0 | N44: =N$6 -> 0
B45: S | C45: F | D45: W | E45: S | F45: F | G45: W | H45: S | I45: F | J45: W | K45: S | L45: F | M45: W | N45: S | O45: F | P45: W
A46: Year 1
A47: Intake 1 - FT Tnician | B47: 0 | C47: 0 | D47: 0 | E47: 0 | F47: 0 | G47: 0 | H47: 0 | I47: 0 | J47: 0 | K47: 0 | L47: 0 | M47: 0 | N47: 0 | O47: 0 | P47: 0
A48: Intake 1 - PT Tnician | B48: 0 | C48: 0 | D48: 0 | E48: 0 | F48: 0 | G48: 0 | H48: 0 | I48: 0 | J48: 0 | K48: 0 | L48: 0 | M48: 0 | N48: 0 | O48: 0 | P48: 0
A49: Intake 2 - FT Tnician | B49: 0 | C49: 0 | D49: 0 | E49: 0 | F49: 0 | G49: 0 | H49: 0 | I49: 0 | J49: 0 | K49: 0 | L49: 0 | M49: 0 | N49: 0 | O49: 0 | P49: 0
A50: Intake 2 - PT Tnician | B50: 0 | C50: 0 | D50: 0 | E50: 0 | F50: 0 | G50: 0 | H50: 0 | I50: 0 | J50: 0 | K50: 0 | L50: 0 | M50: 0 | N50: 0 | O50: 0 | P50: 0
A51: Year 2
A52: Intake 1 - FT Tnician | B52: 0 | C52: 0 | D52: 0 | E52: 0 | F52: 0 | G52: 0 | H52: 0 | I52: 0 | J52: 0 | K52: 0 | L52: 0 | M52: 0 | N52: 0 | O52: 0 | P52: 0
...

Sheet GECD
A1: Program Costing Gen Ed Comms Degrees Forecast | N1: Version Date: | O1: ='Program Summary'!$C$2 -> 0
A2: Program Name: | B2: ='Program Summary'!C3 -> 0 | N2: Location: | O2: ='Program Summary'!$C$4 -> 0
A3: Launch Date | B3: ='Program Summary'!C5 -> 0
B5: Number of GEN ED COMMS COURSES
A6: Fiscal Year | B6: =B3 -> 0 | E6: =Enrolment!E6 -> 0 | H6: =Enrolment!H6 -> 0 | K6: =Enrolment!K6 -> 0 | N6: =Enrolment!N6 -> 0
B7: S | C7: F | D7: W | E7: S | F7: F | G7: W | H7: S | I7: F | J7: W | K7: S | L7: F | M7: W | N7: S | O7: F | P7: W
A8: Year 1
A9: Intake 1 - Gen Ed | B9: 0 | C9: 0 | D9: 0 | E9: 0 | F9: 0 | G9: 0 | H9: 0 | I9: 0 | J9: 0 | K9: 0 | L9: 0 | M9: 0 | N9: 0 | O9: 0 | P9: 0
A10: Intake 2 - Gen Ed | B10: 0 | C10: 0 | D10: 0 | E10: 0 | F10: 0 | G10: 0 | H10: 0 | I10: 0 | J10: 0 | K10: 0 | L10: 0 | M10: 0 | N10: 0 | O10: 0 | P10: 0
A11: Year 2
A12: Intake 1 - Gen Ed | B12: 0 | C12: 0 | D12: 0 | E12: 0 | F12: 0 | G12: 0 | H12: 0 | I12: 0 | J12: 0 | K12: 0 | L12: 0 | M12: 0 | N12: 0 | O12: 0 | P12: 0
A13: Intake 2 - Gen Ed | B13: 0 | C13: 0 | D13: 0 | E13: 0 | F13: 0 | G13: 0 | H13: 0 | I13: 0 | J13: 0 | K13: 0 | L13: 0 | M13: 0 | N13: 0 | O13: 0 | P13: 0
A14: Year 3
A15: Intake 1 - Gen Ed | B15: 0 | C15: 0 | D15: 0 | E15: 0 | F15: 0 | G15: 0 | H15: 0 | I15: 0 | J15: 0 | K15: 0 | L15: 0 | M15: 0 | N15: 0 | O15: 0 | P15: 0
A16: Intake 2 - Gen Ed | B16: 0 | C16: 0 | D16: 0 | E16: 0 | F16: 0 | G16: 0 | H16: 0 | I16: 0 | J16: 0 | K16: 0 | L16: 0 | M16: 0 | N16: 0 | O16: 0 | P16: 0
A17: Year 4
A18: Intake 1 - Gen Ed | B18: 0 | C18: 0 | D18: 0 | E18: 0 | F18: 0 | G18: 0 | H18: 0 | I18: 0 | J18: 0 | K18: 0 | L18: 0 | M18: 0 | N18: 0 | O18: 0 | P18: 0
A19: Intake 2 - Gen Ed | B19: 0 | C19: 0 | D19: 0 | E19: 0 | F19: 0 | G19: 0 | H19: 0 | I19: 0 | J19: 0 | K19: 0 | L19: 0 | M19: 0 | N19: 0 | O19: 0 | P19: 0
A20: Ttl Courses | B20: =SUM(B8:B19) -> 0 | C20: =SUM(C8:C19) -> 0 | D20: =SUM(D8:D19) -> 0 | E20: =SUM(E8:E19) -> 0 | F20: =SUM(F8:F19) -> 0 | G20: =SUM(G8:G19) -> 0 | H20: =SUM(H8:H19) -> 0 | I20: =SUM(I8:I19) -> 0 | ... P20: =SUM(P8:P19) -> 0
B22: Number of COLLEGE DEGREE BREADTH COURSES
A23: Fiscal Year | B23: =B20 -> 0 | E23: =Enrolment!E23 -> 0 | H23: =Enrolment!H23 -> 0 | K23: =Enrolment!K23 -> 0 | N23: =Enrolment!N23 -> 0
B24: S | C24: F | D24: W | E24: S | F24: F | G24: W | H24: S | I24: F | J24: W | K24: S | L24: F | M24: W | N24: S | O24: F | P24: W
A25: Year 1
A26: Intake 1 - Degree | B26: 0 | C26: 0 | D26: 0 | E26: 0 | F26: 0 | G26: 0 | H26: 0 | I26: 0 | J26: 0 | K26: 0 | L26: 0 | M26: 0 | N26: 0 | O26: 0 | P26: 0
A27: Intake 2 - Degree | B27: 0 | C27: 0 | D27: 0 | E27: 0 | F27: 0 | G27: 0 | H27: 0 | I27: 0 | J27: 0 | K27: 0 | L27: 0 | M27: 0 | N27: 0 | O27: 0 | P27: 0
A28: Year 2
A29: Intake 1 - Degree | B29: 0 | C29: 0 | D29: 0 | E29: 0 | F29: 0 | G29: 0 | H29: 0 | I29: 0 | J29: 0 | K29: 0 | L29: 0 | M29: 0 | N29: 0 | O29: 0 | P29: 0
A30: Intake 2 - Degree | B30: 0 | C30: 0 | D30: 0 | E30: 0 | F30: 0 | G30: 0 | H30: 0 | I30: 0 | J30: 0 | K30: 0 | L30: 0 | M30: 0 | N30: 0 | O30: 0 | P30: 0
A31: Year 3
A32: Intake 1 - Degree | B32: 0 | C32: 0 | D32: 0 | E32: 0 | F32: 0 | G32: 0 | H32: 0 | I32: 0 | J32: 0 | K32: 0 | L32: 0 | M32: 0 | N32: 0 | O32: 0 | P32: 0
A33: Intake 2 - Degree | B33: 0 | C33: 0 | D33: 0 | E33: 0 | F33: 0 | G33: 0 | H33: 0 | I33: 0 | J33: 0 | K33: 0 | L33: 0 | M33: 0 | N33: 0 | O33: 0 | P33: 0
A34: Year 4
A35: Intake 1 - Degree | B35: 0 | C35: 0 | D35: 0 | E35: 0 | F35: 0 | G35: 0 | H35: 0 | I35: 0 | J35: 0 | K35: 0 | L35: 0 | M35: 0 | N35: 0 | O35: 0 | P35: 0
A36: Intake 2 - Degree | B36: 0 | C36: 0 | D36: 0 | E36: 0 | F36: 0 | G36: 0 | H36: 0 | I36: 0 | J36: 0 | K36: 0 | L36: 0 | M36: 0 | N36: 0 | O36: 0 | P36: 0
A37: Ttl Courses | B37: =SUM(B25:B36) -> 0 | C37: =SUM(C25:C36) -> 0 | D37: =SUM(D25:D36) -> 0 | E37: =SUM(E25:E36) -> 0 | F37: =SUM(F25:F36) -> 0 | G37: =SUM(G25:G36) -> 0 | H37: =SUM(H25:H36) -> 0 | I37: =SUM(I25:I36) -> 0 | ... P37: =SUM(P25:P36) -> 0
B49: FINANCE ONLY - GEN ED COMMS COURSES * STUDENTS
B50: =B6 -> 0 | E50: =E6 -> 0 | H50: =H6 -> 0 | K50: =K6 -> 0 | N50: =N6 -> 0
B51: S | C51: F | D51: W | E51: S | F51: F | G51: W | H51: S | I51: F | J51: W | K51: S | L51: F | M51: W | N51: S | O51: F | P51: W
A52: Year 1
A53: Intake 1 - Gen Ed | B53: =B9*Enrolment!B48 -> 0 | C53: =C9*Enrolment!C48 -> 0 | D53: =D9*Enrolment!D48 -> 0 | E53: =E9*Enrolment!E48 -> 0 | F53: =F9*Enrolment!F48 -> 0 | G53: =G9*Enrolment!G48 -> 0 | H53: =H9*Enrolment!H48 -> 0 | I53: =I9*Enrolment!I48 -> 0 | ... P53: =P9*Enrolment!P48 -> 0
...

Sheet Other
A1: Program Costing Other Revenue and Expense Forecast | E1: Version Date: | F1: ='Program Summary'!$C$2 -> 0
A2: =CONCATENATE("Program Name: ",'Program Summary'!C3) -> Program Name: | E2: Location: | F2: ='Program Summary'!$C$4 -> 0
A3: =CONCATENATE("Launch Date: ",'Program Summary'!C5) -> Launch Date:
A5: Fiscal Year | B5: =Enrolment!B6 -> 0 | C5: =Enrolment!E6 -> 0 | D5: =Enrolment!H6 -> 0 | E5: =Enrolment!K6 -> 0 | F5: =Enrolment!N6 -> 0
A6: Other Revenues
A7: Other Revenue 1 | B7: 0 | C7: 0 | D7: 0 | E7: 0 | F7: 0
A8: Other Revenue 2 | B8: 0 | C8: 0 | D8: 0 | E8: 0 | F8: 0
A9: Total Other Revenues | B9: =SUM(B7:B8) -> 0 | C9: =SUM(C7:C8) -> 0 | D9: =SUM(D7:D8) -> 0 | E9: =SUM(E7:E8) -> 0 | F9: =SUM(F7:F8) -> 0
A18: Program Development Number of Downloads
A19: Pgm Development: On-Line | B19: 0 | C19: 0 | D19: 0 | E19: 0 | F19: 0
A20: Pgm Development: Excluding On-Line | B20: 0 | C20: 0 | D20: 0 | E20: 0 | F20: 0
A22: Program Development Costs - $5K / download
A23: Program Development Costs, on-line | B23: =B19*5000 -> 0 | C23: =C19*5000 -> 0 | D23: =D19*5000 -> 0 | E23: =E19*5000 -> 0 | F23: =F19*5000 -> 0
A24: Program Development Costs, excluding on-line | B24: =B20*5000 -> 0 | C24: =C20*5000 -> 0 | D24: =D20*5000 -> 0 | E24: =E20*5000 -> 0 | F24: =F20*5000 -> 0
A26: Other New Salary Costs, Excl Benefits
A27: New FT Support | B27: 0 | C27: 0 | D27: 0 | E27: 0 | F27: 0
A28: New PT Support | B28: 0 | C28: 0 | D28: 0 | E28: 0 | F28: 0
A29: Total Other Salary Costs, excl Benefits | B29: =SUM(B23:B28) -> 0 | C29: =SUM(C23:C28) -> 0 | D29: =SUM(D23:D28) -> 0 | E29: =SUM(E23:E28) -> 0 | F29: =SUM(F23:F28) -> 0
A39: Non Salary Direct
A40: Instructional | B40: 0 | C40: 0 | D40: 0 | E40: 0 | F40: 0
A41: Specialized Equipment - Non Capital | B41: 0 | C41: 0 | D41: 0 | E41: 0 | F41: 0
A42: Other Non Salary 1 | B42: 0 | C42: 0 | D42: 0 | E42: 0 | F42: 0
A43: Other Non Salary 2 | B43: 0 | C43: 0 | D43: 0 | E43: 0 | F43: 0
A44: Other Non Salary 3 | B44: 0 | C44: 0 | D44: 0 | E44: 0 | F44: 0
A45: Total Non Salary Direct | B45: =SUM(B40:B44) -> 0 | C45: =SUM(C40:C44) -> 0 | D45: =SUM(D40:D44) -> 0 | E45: =SUM(E40:E44) -> 0 | F45: =SUM(F40:F44) -> 0
A54: Capital
A55: Stakeholder Capital Costs | B55: =SUM('Stake - Facilities'!C9:C13)+SUM('Stake - IT'!C9:C13)+SUM('Stake - Student Services'!C9:C13)+SUM('Stake - Marketing'!C9:C13)+SUM('Stake - Other'!C9:C13) -> 0 | C55: =SUM('Stake - Facilities'!D9:D13)+SUM('Stake - IT'!D9:D13)+SUM('Stake - Student Services'!D9:D13)+SUM('Stake - Marketing'!D9:D13)+SUM('Stake - Other'!D9:D13) -> 0 | D55: =SUM('Stake - Facilities'!E9:E13)+SUM('Stake - IT'!E9:E13)+SUM('Stake - Student Services'!E9:E13)+SUM('Stake - Marketing'!E9:E13)+SUM('Stake - Other'!E9:E13) -> 0 | E55: =SUM('Stake - Facilities'!F9:F13)+SUM('Stake - IT'!F9:F13)+SUM('Stake - Student Services'!F9:F13)+SUM('Stake - Marketing'!F9:F13)+SUM('Stake - Other'!F9:F13) -> 0 | F55: =SUM('Stake - Facilities'!G9:G13)+SUM('Stake - IT'!G9:G13)+SUM('Stake - Student Services'!G9:G13)+SUM('Stake - Marketing'!G9:G13)+SUM('Stake - Other'!G9:G13) -> 0
A56: Other Capital 1 | B56: 0 | C56: 0 | D56: 0 | E56: 0 | F56: 0
A57: Other Capital 2 | B57: 0 | C57: 0 | D57: 0 | E57: 0 | F57: 0
A58: Total Capital | B58: =SUM(B55:B57) -> 0 | C58: =SUM(C55:C57) -> 0 | D58: =SUM(D55:D57) -> 0 | E58: =SUM(E55:E57) -> 0 | F58: =SUM(F55:F57) -> 0
A67: Non Salary Charges to be incurred by Other Stakeholders
A68: Facilities Management | B68: =SUM('Stake - Facilities'!C15:C19) -> 0 | C68: =SUM('Stake - Facilities'!D15:D19) -> 0 | D68: =SUM('Stake - Facilities'!E15:E19) -> 0 | E68: =SUM('Stake - Facilities'!F15:F19) -> 0 | F68: =SUM('Stake - Facilities'!G15:G19) -> 0
A69: Information Technology | B69: =SUM('Stake - IT'!C15:C19) -> 0 | C69: =SUM('Stake - IT'!D15:D19) -> 0 | D69: =SUM('Stake - IT'!E15:E19) -> 0 | E69: =SUM('Stake - IT'!F15:F19) -> 0 | F69: =SUM('Stake - IT'!G15:G19) -> 0
A70: Student Services | B70: =SUM('Stake - Student Services'!C15:C19)+'Stake - Student Services'!C22 -> 0 | C70: =SUM('Stake - Student Services'!D15:D19)+'Stake - Student Services'!D22 -> 0 | D70: =SUM('Stake - Student Services'!E15:E19)+'Stake - Student Services'!E22 -> 0 | E70: =SUM('Stake - Student Services'!F15:F19)+'Stake - Student Services'!F22 -> 0 | F70: =SUM('Stake - Student Services'!G15:G19)+'Stake - Student Services'!G22 -> 0
A71: Marketing | B71: =SUM('Stake - Marketing'!C15:C19) -> 0 | C71: =SUM('Stake - Marketing'!D15:D19) -> 0 | D71: =SUM('Stake - Marketing'!E15:E19) -> 0 | E71: =SUM('Stake - Marketing'!F15:F19) -> 0 | F71: =SUM('Stake - Marketing'!G15:G19) -> 0
A72: Other | B72: =SUM('Stake - Other'!C15:C19) -> 0 | C72: =SUM('Stake - Other'!D15:D19) -> 0 | D72: =SUM('Stake - Other'!E15:E19) -> 0 | E72: =SUM('Stake - Other'!F15:F19) -> 0 | F72: =SUM('Stake - Other'!G15:G19) -> 0
A73: Total Non Salary Direct - Other Deptids | B73: =SUM(B68:B72) -> 0 | C73: =SUM(C68:C72) -> 0 | D73: =SUM(D68:D72) -> 0 | E73: =SUM(E68:E72) -> 0 | F73: =SUM(F68:F72) -> 0
A84: Data Validation
A85: 0
A86: 1
...

Sheet Summary - Finance
A1: Program Costing Summary - Finance | E1: Version Date: | F1: ='Program Summary'!$C$2 -> 0
A2: =CONCATENATE("Program Name: ",'Program Summary'!C3) -> Program Name: | E2: Location: | F2: ='Program Summary'!$C$4 -> 0
A3: =CONCATENATE("Launch Date: ",'Program Summary'!C5) -> Launch Date:
A5: Fiscal Year | B5: =Enrolment!B6 -> 0 | C5: =Enrolment!E6 -> 0 | D5: =Enrolment!H6 -> 0 | E5: =Enrolment!K6 -> 0 | F5: =Enrolment!N6 -> 0 | G5: Account for Budget | H5: Account Note
A6: Revenues
A7: Domestic Tuition | B7: =SUM(Enrolment!B65:D65) -> 0 | C7: =SUM(Enrolment!E65:G65) -> 0 | D7: =SUM(Enrolment!H65:J65) -> 0 | E7: =SUM(Enrolment!K65:M65) -> 0 | F7: =SUM(Enrolment!N65:P65) -> 0 | G7: n/a | H7: populated from Hyperion
A8: Domestic Grant | B8: =SUM(Enrolment!B66:D66) -> 0 | C8: =SUM(Enrolment!E66:G66) -> 0 | D8: =SUM(Enrolment!H66:J66) -> 0 | E8: =SUM(Enrolment!K66:M66) -> 0 | F8: =SUM(Enrolment!N66:P66) -> 0 | G8: n/a | H8: populated from Hyperion
A9: International Tuition | B9: =SUM(Enrolment!B67:D67) -> 0 | C9: =SUM(Enrolment!E67:G67) -> 0 | D9: =SUM(Enrolment!H67:J67) -> 0 | E9: =SUM(Enrolment!K67:M67) -> 0 | F9: =SUM(Enrolment!N67:P67) -> 0 | G9: n/a | H9: populated from Hyperion
A10: Incidental Fees | B10: =SUM(Enrolment!B68:D68) -> 0 | C10: =SUM(Enrolment!E68:G68) -> 0 | D10: =SUM(Enrolment!H68:J68) -> 0 | E10: =SUM(Enrolment!K68:M68) -> 0 | F10: =SUM(Enrolment!N68:P68) -> 0 | G10: n/a | H10: populated from Hyperion
A11: Other | B11: =Other!B9 -> 0 | C11: =Other!C9 -> 0 | D11: =Other!D9 -> 0 | E11: =Other!E9 -> 0 | F11: =Other!F9 -> 0 | G11: TBD
A12: Total Revenues | B12: =SUM(B7:B11) -> 0 | C12: =SUM(C7:C11) -> 0 | D12: =SUM(D7:D11) -> 0 | E12: =SUM(E7:E11) -> 0 | F12: =SUM(F7:F11) -> 0
A14: FT Salaries and Benefits
A15: Faculty | B15: =SUM(TCH!B121:D121) -> 0 | C15: =SUM(TCH!E121:G121) -> 0 | D15: =SUM(TCH!H121:J121) -> 0 | E15: =SUM(TCH!K121:M121) -> 0 | F15: =SUM(TCH!N121:P121) -> 0 | G15: n/a | H15: populated from Labour Planning
A16: Faculty CPP EI EHT | B16: =B$15*$B$104 -> 0 | C16: =C$15*$B$104 -> 0 | D16: =D$15*$B$104 -> 0 | E16: =E$15*$B$104 -> 0 | F16: =F$15*$B$104 -> 0 | G16: n/a | H16: populated from Labour Planning
A17: Faculty Ext Benefits | B17: =B$15*$C$104 -> 0 | C17: =C$15*$C$104 -> 0 | D17: =D$15*$C$104 -> 0 | E17: =E$15*$C$104 -> 0 | F17: =F$15*$C$104 -> 0 | G17: n/a | H17: populated from Labour Planning
A18: Faculty CAAT | B18: =B$15*$D$104 -> 0 | C18: =C$15*$D$104 -> 0 | D18: =D$15*$D$104 -> 0 | E18: =E$15*$D$104 -> 0 | F18: =F$15*$D$104 -> 0 | G18: n/a | H18: populated from Labour Planning
A19: Support | B19: =SUM(TCH!B128:D128)+SUM(TCH!B135:D135)+Other!B27 -> 0 | C19: =SUM(TCH!E128:G128)+SUM(TCH!E135:G135)+Other!C27 -> 0 | D19: =SUM(TCH!H128:J128)+SUM(TCH!H135:J135)+Other!D27 -> 0 | E19: =SUM(TCH!K128:M128)+SUM(TCH!K135:M135)+Other!E27 -> 0 | F19: =SUM(TCH!N128:P128)+SUM(TCH!N135:P135)+Other!F27 -> 0 | G19: n/a | H19: populated from Labour Planning
A20: Support CPP EI EHT | B20: =B$19*$B$105 -> 0 | C20: =C$19*$B$104 -> 0 | D20: =D$19*$B$104 -> 0 | E20: =E$19*$B$104 -> 0 | F20: =F$19*$B$104 -> 0 | G20: n/a | H20: populated from Labour Planning
A21: Support Ext Benefits | B21: =B$19*$C$105 -> 0 | C21: =C$19*$C$105 -> 0 | D21: =D$19*$C$105 -> 0 | E21: =E$19*$C$105 -> 0 | F21: =F$19*$C$105 -> 0 | G21: n/a | H21: populated from Labour Planning
A22: Support CAAT | B22: =B$19*$D$105 -> 0 | C22: =C$19*$D$105 -> 0 | D22: =D$19*$D$105 -> 0 | E22: =E$19*$D$105 -> 0 | F22: =F$19*$D$105 -> 0 | G22: n/a | H22: populated from Labour Planning
A23: Total FT Salaries and Benefits | B23: =SUM(B15:B22) -> 0 | C23: =SUM(C15:C22) -> 0 | D23: =SUM(D15:D22) -> 0 | E23: =SUM(E15:E22) -> 0 | F23: =SUM(F15:F22) -> 0
A25: PT Salaries and Benefits
A26: Faculty Teaching | B26: =SUM(TCH!B122:D122) -> 0 | C26: =SUM(TCH!E122:G122) -> 0 | D26: =SUM(TCH!H122:J122) -> 0 | E26: =SUM(TCH!K122:M122) -> 0 | F26: =SUM(TCH!N122:P122) -> 0 | G26: n/a | H26: populated from TCH process
A27: Faculty Teaching CPP EI EHT | B27: =B$26*$B$106 -> 0 | C27: =C$26*$B$106 -> 0 | D27: =D$26*$B$106 -> 0 | E27: =E$26*$B$106 -> 0 | F27: =F$26*$B$106 -> 0 | G27: n/a | H27: populated from TCH process
A28: Faculty Teaching Ext Benefits | B28: =B$26*$C$106 -> 0 | C28: =C$26*$C$106 -> 0 | D28: =D$26*$C$106 -> 0 | E28: =E$26*$C$106 -> 0 | F28: =F$26*$C$106 -> 0 | G28: n/a | H28: populated from TCH process
A29: Faculty Teaching CAAT | B29: =B$26*$D$106 -> 0 | C29: =C$26*$D$106 -> 0 | D29: =D$26*$D$106 -> 0 | E29: =E$26*$D$106 -> 0 | F29: =F$26*$D$106 -> 0 | G29: n/a | H29: populated from TCH process
A30: Faculty Pgm Dev | B30: =SUM(Other!B23:B24) -> 0 | C30: =SUM(Other!C23:C24) -> 0 | D30: =SUM(Other!D23:D24) -> 0 | E30: =SUM(Other!E23:E24) -> 0 | F30: =SUM(Other!F23:F24) -> 0 | G30: 50500
A31: Faculty Pgm Dev CPP EI EHT | B31: =B$30*$B$106 -> 0 | C31: =C$30*$B$106 -> 0 | D31: =D$30*$B$106 -> 0 | E31: =E$30*$B$106 -> 0 | F31: =F$30*$B$106 -> 0 | G31: 51500
A32: Faculty Pgm Dev Ext Benefits | B32: =B$30*$C$106 -> 0 | C32: =C$30*$C$106 -> 0 | D32: =D$30*$C$106 -> 0 | E32: =E$30*$C$106 -> 0 | F32: =F$30*$C$106 -> 0 | G32: 51510
A33: Faculty Pgm Dev CAAT | B33: =B$30*$D$106 -> 0 | C33: =C$30*$D$106 -> 0 | D33: =D$30*$D$106 -> 0 | E33: =E$30*$D$106 -> 0 | F33: =F$30*$D$106 -> 0 | G33: 51530
A34: Support Tech | B34: =SUM(TCH!B129:D129)+SUM(TCH!B136:D136) -> 0 | C34: =SUM(TCH!E129:G129)+SUM(TCH!E136:G136) -> 0 | D34: =SUM(TCH!H129:J129)+SUM(TCH!H136:J136) -> 0 | E34: =SUM(TCH!K129:M129)+SUM(TCH!K136:M136) -> 0 | F34: =SUM(TCH!N129:P129)+SUM(TCH!N136:P136) -> 0 | G34: 50600
A35: Support Tech CPP EI EHT | B35: =B$34*$B$107 -> 0 | C35: =C$34*$B$107 -> 0 | D35: =D$34*$B$107 -> 0 | E35: =E$34*$B$107 -> 0 | F35: =F$34*$B$107 -> 0 | G35: 51600
A36: Support Tech Ext Benefits | B36: =B$34*$C$107 -> 0 | C36: =C$34*$C$107 -> 0 | D36: =D$34*$C$107 -> 0 | E36: =E$34*$C$107 -> 0 | F36: =F$34*$C$107 -> 0 | G36: n/a
A37: Support Tech CAAT | B37: =B$34*$D$107 -> 0 | C37: =C$34*$D$107 -> 0 | D37: =D$34*$D$107 -> 0 | E37: =E$34*$D$107 -> 0 | F37: =F$34*$D$107 -> 0 | G37: 51630
A38: Support Other | B38: =Other!B28 -> 0 | C38: =Other!C28 -> 0 | D38: =Other!D28 -> 0 | E38: =Other!E28 -> 0 | F38: =Other!F28 -> 0 | G38: 50600
A39: Support Other CPP EI EHT | B39: =B$38*$B$107 -> 0 | C39: =C$38*$B$107 -> 0 | D39: =D$38*$B$107 -> 0 | E39: =E$38*$B$107 -> 0 | F39: =F$38*$B$107 -> 0 | G39: 51600
A40: Support Other Ext Benefits | B40: =B$38*$C$107 -> 0 | C40: =C$38*$C$107 -> 0 | D40: =D$38*$C$107 -> 0 | E40: =E$38*$C$107 -> 0 | F40: =F$38*$C$107 -> 0 | G40: n/a
A41: Support Other CAAT | B41: =B$38*$D$107 -> 0 | C41: =C$38*$D$107 -> 0 | D41: =D$38*$D$107 -> 0 | E41: =E$38*$D$107 -> 0 | F41: =F$38*$D$107 -> 0 | G41: 51630
A42: Total PT Salaries Benefits | B42: =SUM(B26:B41) -> 0 | C42: =SUM(C26:C41) -> 0 | D42: =SUM(D26:D41) -> 0 | E42: =SUM(E26:E41) -> 0 | F42: =SUM(F26:F41) -> 0
A44: Non Salary Direct
...

Sheet Summary - BOG
A1: Program Costing Summary - Board of Governors | E1: Version Date: | F1: ='Program Summary'!$C$2 -> 0
A2: =CONCATENATE("Program Name: ",'Program Summary'!C3) -> Program Name: | E2: Location: | F2: ='Program Summary'!$C$4 -> 0
A3: =CONCATENATE("Launch Date: ",'Program Summary'!C5) -> Launch Date:
A5: Fiscal Year | B5: =Enrolment!B6 -> 0 | C5: =Enrolment!E6 -> 0 | D5: =Enrolment!H6 -> 0 | E5: =Enrolment!K6 -> 0 | F5: =Enrolment!N6 -> 0
A6: Enrolment
A7: Summer | B7: =Enrolment!B$59 -> 0 | C7: =Enrolment!E$59 -> 0 | D7: =Enrolment!H$59 -> 0 | E7: =Enrolment!K$59 -> 0 | F7: =Enrolment!N$59 -> 0
A8: Fall | B8: =Enrolment!C$59 -> 0 | C8: =Enrolment!F$59 -> 0 | D8: =Enrolment!I$59 -> 0 | E8: =Enrolment!L$59 -> 0 | F8: =Enrolment!O$59 -> 0
A9: Winter | B9: =Enrolment!D$59 -> 0 | C9: =Enrolment!G$59 -> 0 | D9: =Enrolment!J$59 -> 0 | E9: =Enrolment!M$59 -> 0 | F9: =Enrolment!P$59 -> 0
A10: Total | B10: =SUM(B7:B9) -> 0 | C10: =SUM(C7:C9) -> 0 | D10: =SUM(D7:D9) -> 0 | E10: =SUM(E7:E9) -> 0 | F10: =SUM(F7:F9) -> 0
A12: Revenue
A13: Tuition | B13: =SUM('Summary - Finance'!B7,'Summary - Finance'!B9) -> 0 | C13: =SUM('Summary - Finance'!C7,'Summary - Finance'!C9) -> 0 | D13: =SUM('Summary - Finance'!D7,'Summary - Finance'!D9) -> 0 | E13: =SUM('Summary - Finance'!E7,'Summary - Finance'!E9) -> 0 | F13: =SUM('Summary - Finance'!F7,'Summary - Finance'!F9) -> 0
A14: Grant | B14: ='Summary - Finance'!B8 -> 0 | C14: ='Summary - Finance'!C8 -> 0 | D14: ='Summary - Finance'!D8 -> 0 | E14: ='Summary - Finance'!E8 -> 0 | F14: ='Summary - Finance'!F8 -> 0
A15: Other | B15: =SUM('Summary - Finance'!B10:B11) -> 0 | C15: =SUM('Summary - Finance'!C10:C11) -> 0 | D15: =SUM('Summary - Finance'!D10:D11) -> 0 | E15: =SUM('Summary - Finance'!E10:E11) -> 0 | F15: =SUM('Summary - Finance'!F10:F11) -> 0
A16: Total Revenue | B16: =SUM(B13:B15) -> 0 | C16: =SUM(C13:C15) -> 0 | D16: =SUM(D13:D15) -> 0 | E16: =SUM(E13:E15) -> 0 | F16: =SUM(F13:F15) -> 0
A18: Expenses
A19: Salary and Benefits | B19: =SUM('Summary - Finance'!B23,'Summary - Finance'!B42) -> 0 | C19: =SUM('Summary - Finance'!C23,'Summary - Finance'!C42) -> 0 | D19: =SUM('Summary - Finance'!D23,'Summary - Finance'!D42) -> 0 | E19: =SUM('Summary - Finance'!E23,'Summary - Finance'!E42) -> 0 | F19: =SUM('Summary - Finance'!F23,'Summary - Finance'!F42) -> 0
A20: Non Salary | B20: ='Summary - Finance'!B51 -> 0 | C20: ='Summary - Finance'!C51 -> 0 | D20: ='Summary - Finance'!D51 -> 0 | E20: ='Summary - Finance'!E51 -> 0 | F20: ='Summary - Finance'!F51 -> 0
A21: Allocated Expenses | B21: ='Summary - Finance'!B60 -> 0 | C21: ='Summary - Finance'!C60 -> 0 | D21: ='Summary - Finance'!D60 -> 0 | E21: ='Summary - Finance'!E60 -> 0 | F21: ='Summary - Finance'!F60 -> 0
A22: Total Expense | B22: =SUM(B19:B21) -> 0 | C22: =SUM(C19:C21) -> 0 | D22: =SUM(D19:D21) -> 0 | E22: =SUM(E19:E21) -> 0 | F22: =SUM(F19:F21) -> 0
A24: Contribution | B24: =B16-B22 -> 0 | C24: =C16-C22 -> 0 | D24: =D16-D22 -> 0 | E24: =E16-E22 -> 0 | F24: =F16-F22 -> 0
A25: Contribution % | B25: =IFERROR(B24/B16,"") | C25: =IFERROR(C24/C16,"") | D25: =IFERROR(D24/D16,"") | E25: =IFERROR(E24/E16,"") | F25: =IFERROR(F24/F16,"")
A26: College's Target Contribution | D26: 0.3 | E26: 0.3 | F26: 0.3
A27: Cumulative Contribution | B27: =SUM($B24:B24) -> 0 | C27: =SUM($B24:C24) -> 0 | D27: =SUM($B24:D24) -> 0 | E27: =SUM($B24:E24) -> 0 | F27: =SUM($B24:F24) -> 0
A29: Capital Costs | B29: ='Summary - Finance'!B71 -> 0 | C29: ='Summary - Finance'!C71 -> 0 | D29: ='Summary - Finance'!D71 -> 0 | E29: ='Summary - Finance'!E71 -> 0 | F29: ='Summary - Finance'!F71 -> 0
A30: Other Direct Costs to be incurred by other Depts | B30: ='Summary - Finance'!B79 -> 0 | C30: ='Summary - Finance'!C79 -> 0 | D30: ='Summary - Finance'!D79 -> 0 | E30: ='Summary - Finance'!E79 -> 0 | F30: ='Summary - Finance'!F79 -> 0

Sheet Stake - Facilities
A1: Stakeholder Consultation and Approval
A3: Stakeholder Group: | D3: Facilities Management
A4: Program: | D4: ='Program Summary'!C3 -> 0
A5: Type of Consultation (choose from drop-down) | D5: New Program
A7: Item(s) | C7: Cost Year 1 | D7: Cost Year 2 | E7: Cost Year 3 | F7: Cost Year 4 | G7: Cost Year 5
A8: Capital
C9: 0 | D9: 0 | E9: 0 | F9: 0 | G9: 0
C10: 0 | D10: 0 | E10: 0 | F10: 0 | G10: 0
C11: 0 | D11: 0 | E11: 0 | F11: 0 | G11: 0
C12: 0 | D12: 0 | E12: 0 | F12: 0 | G12: 0
C13: 0 | D13: 0 | E13: 0 | F13: 0 | G13: 0
A14: Non Capital
C15: 0 | D15: 0 | E15: 0 | F15: 0 | G15: 0
C16: 0 | D16: 0 | E16: 0 | F16: 0 | G16: 0
C17: 0 | D17: 0 | E17: 0 | F17: 0 | G17: 0
C18: 0 | D18: 0 | E18: 0 | F18: 0 | G18: 0
C19: 0 | D19: 0 | E19: 0 | F19: 0 | G19: 0
A20: Total | C20: =SUM(C9:C19) -> 0 | D20: =SUM(D9:D19) -> 0 | E20: =SUM(E9:E19) -> 0 | F20: =SUM(F9:F19) -> 0 | G20: =SUM(G9:G19) -> 0
A29: New Program
A30: Program Change / Renewal

Sheet Stake - IT
A1: Stakeholder Consultation and Approval
A3: Stakeholder Group: | D3: Information Technology
A4: Program: | D4: ='Program Summary'!C3 -> 0
A5: Type of Consultation (choose from drop-down) | D5: New Program
A7: Item(s) | C7: Cost Year 1 | D7: Cost Year 2 | E7: Cost Year 3 | F7: Cost Year 4 | G7: Cost Year 5
A8: Capital
C9: 0 | D9: 0 | E9: 0 | F9: 0 | G9: 0
C10: 0 | D10: 0 | E10: 0 | F10: 0 | G10: 0
C11: 0 | D11: 0 | E11: 0 | F11: 0 | G11: 0
C12: 0 | D12: 0 | E12: 0 | F12: 0 | G12: 0
C13: 0 | D13: 0 | E13: 0 | F13: 0 | G13: 0
A14: Non Capital
C15: 0 | D15: 0 | E15: 0 | F15: 0 | G15: 0
C16: 0 | D16: 0 | E16: 0 | F16: 0 | G16: 0
C17: 0 | D17: 0 | E17: 0 | F17: 0 | G17: 0
C18: 0 | D18: 0 | E18: 0 | F18: 0 | G18: 0
C19: 0 | D19: 0 | E19: 0 | F19: 0 | G19: 0
A20: Total | C20: =SUM(C9:C19) -> 0 | D20: =SUM(D9:D19) -> 0 | E20: =SUM(E9:E19) -> 0 | F20: =SUM(F9:F19) -> 0 | G20: =SUM(G9:G19) -> 0
A30: New Program
A31: Program Change / Renewal

Sheet Stake - Student Services
A1: Stakeholder Consultation and Approval
A3: Stakeholder Group: | D3: Student and Learning Services
A4: Program: | D4: ='Program Summary'!C3 -> 0
A5: Type of Consultation (choose from drop-down) | D5: New Program
A7: Item(s) | C7: Cost Year 1 | D7: Cost Year 2 | E7: Cost Year 3 | F7: Cost Year 4 | G7: Cost Year 5
A8: Capital
C9: 0 | D9: 0 | E9: 0 | F9: 0 | G9: 0
C10: 0 | D10: 0 | E10: 0 | F10: 0 | G10: 0
C11: 0 | D11: 0 | E11: 0 | F11: 0 | G11: 0
C12: 0 | D12: 0 | E12: 0 | F12: 0 | G12: 0
C13: 0 | D13: 0 | E13: 0 | F13: 0 | G13: 0
A14: Non Capital
C15: 0 | D15: 0 | E15: 0 | F15: 0 | G15: 0
C16: 0 | D16: 0 | E16: 0 | F16: 0 | G16: 0
C17: 0 | D17: 0 | E17: 0 | F17: 0 | G17: 0
C18: 0 | D18: 0 | E18: 0 | F18: 0 | G18: 0
C19: 0 | D19: 0 | E19: 0 | F19: 0 | G19: 0
A20: Total | C20: =SUM(C9:C19) -> 0 | D20: =SUM(D9:D19) -> 0 | E20: =SUM(E9:E19) -> 0 | F20: =SUM(F9:F19) -> 0 | G20: =SUM(G9:G19) -> 0
A22: LRC Amount $60/FTE | C22: =SUM(Enrolment!$B59:$D59)*60 -> 0 | D22: =SUM(Enrolment!$E59:$G59)*60 -> 0 | E22: =SUM(Enrolment!$H59:$J59)*60 -> 0 | F22: =SUM(Enrolment!$K59:$M59)*60 -> 0 | G22: =SUM(Enrolment!$N59:$P59)*60 -> 0
A31: Program Change / Renewal

Sheet Stake - Marketing
A1: Stakeholder Consultation and Approval
A3: Stakeholder Group: | D3: Marketing
A4: Program: | D4: ='Program Summary'!C3 -> 0
A5: Type of Consultation (choose from drop-down) | D5: New Program
A7: Item(s) | C7: Cost Year 1 | D7: Cost Year 2 | E7: Cost Year 3 | F7: Cost Year 4 | G7: Cost Year 5
A8: Capital
C9: 0 | D9: 0 | E9: 0 | F9: 0 | G9: 0
C10: 0 | D10: 0 | E10: 0 | F10: 0 | G10: 0
C11: 0 | D11: 0 | E11: 0 | F11: 0 | G11: 0
C12: 0 | D12: 0 | E12: 0 | F12: 0 | G12: 0
C13: 0 | D13: 0 | E13: 0 | F13: 0 | G13: 0
A14: Non Capital
C15: 0 | D15: 0 | E15: 0 | F15: 0 | G15: 0
C16: 0 | D16: 0 | E16: 0 | F16: 0 | G16: 0
C17: 0 | D17: 0 | E17: 0 | F17: 0 | G17: 0
C18: 0 | D18: 0 | E18: 0 | F18: 0 | G18: 0
C19: 0 | D19: 0 | E19: 0 | F19: 0 | G19: 0
A20: Total | C20: =SUM(C9:C19) -> 0 | D20: =SUM(D9:D19) -> 0 | E20: =SUM(E9:E19) -> 0 | F20: =SUM(F9:F19) -> 0 | G20: =SUM(G9:G19) -> 0
A30: New Program
A31: Program Change / Renewal

Sheet Stake - Other
A1: Stakeholder Consultation and Approval
A3: Stakeholder Group: | D3: Other
A4: Program: | D4: ='Program Summary'!C3 -> 0
A5: Type of Consultation (choose from drop-down) | D5: New Program
A7: Item(s) | C7: Cost Year 1 | D7: Cost Year 2 | E7: Cost Year 3 | F7: Cost Year 4 | G7: Cost Year 5
A8: Capital
C9: 0 | D9: 0 | E9: 0 | F9: 0 | G9: 0
C10: 0 | D10: 0 | E10: 0 | F10: 0 | G10: 0
C11: 0 | D11: 0 | E11: 0 | F11: 0 | G11: 0
C12: 0 | D12: 0 | E12: 0 | F12: 0 | G12: 0
C13: 0 | D13: 0 | E13: 0 | F13: 0 | G13: 0
A14: Non Capital
C15: 0 | D15: 0 | E15: 0 | F15: 0 | G15: 0
C16: 0 | D16: 0 | E16: 0 | F16: 0 | G16: 0
C17: 0 | D17: 0 | E17: 0 | F17: 0 | G17: 0
C18: 0 | D18: 0 | E18: 0 | F18: 0 | G18: 0
C19: 0 | D19: 0 | E19: 0 | F19: 0 | G19: 0
A20: Total | C20: =SUM(C9:C19) -> 0 | D20: =SUM(D9:D19) -> 0 | E20: =SUM(E9:E19) -> 0 | F20: =SUM(F9:F19) -> 0 | G20: =SUM(G9:G19) -> 0
A30: New Program
A31: Program Change / Renewal
